BEGIN:VCALENDAR
VERSION:2.0
PRODID:-//ChamberMaster//Event Calendar 2.0//EN
METHOD:PUBLISH
X-PUBLISHED-TTL:P3D
REFRESH-INTERVAL:P3D
CALSCALE:GREGORIAN
BEGIN:VEVENT
DTSTART:20240215T170000Z
DTEND:20240215T171500Z
X-MICROSOFT-CDO-ALLDAYEVENT:FALSE
SUMMARY:2024 Ribbon Cutting - Rusty's Carpet Care
DESCRIPTION:Join the Perdido Key Area Chamber of Commerce as we celebrate the Ribbon Cutting Celebration for Rusty's Carpet Care! Join in the celebration on February 15th at 11:00 AM at the Chamber Office. \n\n\n\nRusty's Carpet Care serves as a comprehensive solution for individuals seeking top-notch professional hard and soft surface cleaning services. Specializing in carpet stretching\, repairs\, and installation\, the company directs its services toward vacation rental properties in the picturesque Perdido Key and Pensacola areas. Whether the need is for short-term or long-term rentals\, Rusty's Carpet Care guarantees that properties remain fresh and inviting for guests. The locally owned business places a premium on excellence and provides a wide range of services\, encompassing carpet\, tile\, grout\, and LVP cleaning\, along with upholstery and area rug cleaning. Clients are encouraged to trust Rusty's Carpet Care for outstanding results and a positive\, memorable experience.\n\n\n\nFor more information visit their website at rustyscarpets.com.
X-ALT-DESC;FMTTYPE=text/html:<span style="font-size:16px\;"><span style="font-family:arial\;">Join the Perdido Key Area Chamber of Commerce as we celebrate the Ribbon Cutting Celebration for Rusty&#39\;s Carpet Care! Join in the celebration on February 15th at 11:00 AM at the Chamber Office.&nbsp\;</span></span><br />\n<br />\n<span style="font-family:arial\;"><span style="color: rgb(55\, 65\, 81)\; font-size: 16px\; white-space-collapse: preserve\;">Rusty&rsquo\;s Carpet Care serves as a comprehensive solution for individuals seeking top-notch professional hard and soft surface cleaning services. Specializing in carpet stretching\, repairs\, and installation\, the company directs its services toward vacation rental properties in the picturesque Perdido Key and Pensacola areas. Whether the need is for short-term or long-term rentals\, Rusty&rsquo\;s Carpet Care guarantees that properties remain fresh and inviting for guests. The locally owned business places a premium on excellence and provides a wide range of services\, encompassing carpet\, tile\, grout\, and LVP cleaning\, along with upholstery and area rug cleaning. Clients are encouraged to trust Rusty&rsquo\;s Carpet Care for outstanding results and a positive\, memorable experience.<br />\n<br />\nFor more information visit their website at</span><span style="color: rgb(55\, 65\, 81)\; white-space-collapse: preserve\;"> </span><a href="http://rustyscarpets.com"><span style="font-size:16px\;">rustyscarpets.com</span></a>.</span><br />\n&nbsp\;
LOCATION:Perdido Key Area Chamber of Commerce 15500 Perdido Key Drive
UID:e.2644.35540
SEQUENCE:3
DTSTAMP:20260424T184819Z
URL:https://business.perdidochamber.com/events/details/2024-ribbon-cutting-rusty-s-carpet-care-35540
END:VEVENT

END:VCALENDAR
