BEGIN:VCALENDAR
VERSION:2.0
PRODID:-//ChamberMaster//Event Calendar 2.0//EN
METHOD:PUBLISH
X-PUBLISHED-TTL:P3D
REFRESH-INTERVAL:P3D
CALSCALE:GREGORIAN
BEGIN:VEVENT
DTSTART:20240119T000000Z
DTEND:20240119T010000Z
X-MICROSOFT-CDO-ALLDAYEVENT:FALSE
SUMMARY:2024 Ribbon Cutting - Sadie O'Gara Lost Key Group\, Keller Williams Realty
DESCRIPTION:Come celebrate the Opening and Open House of Sadie O'Gara and the Lost Key Group\, Keller Williams Realty Gulf Coast Office on January 18th from 6:00 PM - 7:00 PM. Sadie O?Gara\, is excited to open her office to the community and meet new people. Local musicians will be playing and local art displayed during the ribbon cutting ceremony. Come see Augie Savage on the Baby Grand Piano  ! Local Artist Lyn Gentry and Amber Scott to have pieces displayed.\n\n\n\nCome enjoy a toast   whilst the Lost Key Lighted Night Market is going on at The Villagio. Come see us in Unit C 144 next to BeachLIFE. Join Sadie O'Gara and The Perdido Key Area Chamber of Commerce for a Ribbon Cutting Ceremony!
X-ALT-DESC;FMTTYPE=text/html:<span style="font-size:16px\;"><span style="font-family:arial\;">Come celebrate the Opening and Open House of Sadie O&#39\;Gara and the Lost Key Group\, Keller Williams Realty Gulf Coast Office on January 18th from 6:00 PM - 7:00 PM. Sadie O?Gara\, is excited to open her office to the community and meet new people. Local musicians will be playing and local art displayed during the ribbon cutting ceremony. Come see Augie Savage on the Baby Grand Piano &#127929\;! Local Artist Lyn Gentry and Amber Scott to have pieces displayed.<br />\n<br />\nCome enjoy a toast &#129346\; whilst the Lost Key Lighted Night Market is going on at The Villagio. Come see us in Unit C 144 next to BeachLIFE.&nbsp\;Join Sadie O&#39\;Gara and The Perdido Key Area Chamber of Commerce for a Ribbon Cutting Ceremony!</span></span>
LOCATION:Lost Key Group Keller Williams Realty Gulf Coast Office 13700 Perdido Key Drive Ste 144 Perdido Key\, FL 32507
UID:e.2644.35525
SEQUENCE:3
DTSTAMP:20260424T202729Z
URL:https://business.perdidochamber.com/events/details/2024-ribbon-cutting-sadie-o-gara-lost-key-group-keller-williams-realty-35525
END:VEVENT

END:VCALENDAR
