BEGIN:VCALENDAR
VERSION:2.0
PRODID:-//ChamberMaster//Event Calendar 2.0//EN
METHOD:PUBLISH
X-PUBLISHED-TTL:P3D
REFRESH-INTERVAL:P3D
CALSCALE:GREGORIAN
BEGIN:VEVENT
DTSTART:20240307T170000Z
DTEND:20240307T171500Z
X-MICROSOFT-CDO-ALLDAYEVENT:FALSE
SUMMARY:2024 Ribbon Cutting - The Orange Beach Store
DESCRIPTION:Join the Perdido Key Area Chamber of Commerce as we celebrate the Ribbon Cutting Celebration for the NEW Orange Beach Store! Join in the celebration on March 7th at 11:00 AM at the NEW Orange Beach Store.
X-ALT-DESC;FMTTYPE=text/html:<span style="font-size:16px\;"><span style="font-family:arial\;">Join the Perdido Key Area Chamber of Commerce as we celebrate the Ribbon Cutting Celebration for the NEW Orange Beach Store! Join in the celebration on March 7th at 11:00 AM at the NEW Orange Beach Store.&nbsp\;</span></span><br />\n&nbsp\;
LOCATION:The Orange Beach Store 25777 Perdido Beach Blvd Orange Beach\, AL 36561 ACROSS FROM COASTAL
UID:e.2644.35546
SEQUENCE:3
DTSTAMP:20260424T170635Z
URL:https://business.perdidochamber.com/events/details/2024-ribbon-cutting-the-orange-beach-store-35546
END:VEVENT

END:VCALENDAR
