BEGIN:VCALENDAR
VERSION:2.0
PRODID:-//ChamberMaster//Event Calendar 2.0//EN
METHOD:PUBLISH
X-PUBLISHED-TTL:P3D
REFRESH-INTERVAL:P3D
CALSCALE:GREGORIAN
BEGIN:VEVENT
DTSTART:20240712T123000Z
DTEND:20240712T140000Z
X-MICROSOFT-CDO-ALLDAYEVENT:FALSE
SUMMARY:2024 Spill the Beans\, Community Conversations - July
DESCRIPTION:The Perdido Key Area Chamber of Commerce series Spill the Beans\, Community Conversations is held on the second Friday of each month hosted by Hub Stacey's at the Point aimed to bring the community together to learn about and discuss important issues and updates that affect residents and businesses.  Each month a community leader will speak on a topic relevant to life in and near Perdido Key.  \n\n\n\nEach month a community leader will speak on a topic relevant to life in and near Perdido Key.  \n\n\n\nNetworking coffee will start at 7:30 AM and the program will begin at 8:00 AM\, followed by a question and answer session. Coffee\, tea\, and assorted pastries will be provided for attendees while supplies last.\n\n\n\nJuly Speaker: Commissioner Jeff Bergosh\, Escambia County Commissioner District One\n\nTopic: Insights on the various improvements and challenges in District One & collaborations with the PKACC.
X-ALT-DESC;FMTTYPE=text/html:The Perdido Key Area Chamber of Commerce series Spill the Beans\, Community Conversations is held on the second Friday of each month hosted by Hub Stacey&#39\;s at the Point aimed to bring the community together to learn about and discuss important issues and updates that affect residents and businesses.&nbsp\; Each month a community leader will speak on a topic relevant to life in and near Perdido Key.&nbsp\;&nbsp\;<br />\n<br />\nEach month a community leader will speak on a topic relevant to life in and near Perdido Key.&nbsp\;&nbsp\;<br />\n<br />\nNetworking coffee will start at 7:30 AM and the program will begin at 8:00 AM\, followed by a question and answer session. Coffee\, tea\, and assorted pastries will be provided for attendees while supplies last.<br />\n<br />\nJuly Speaker: Commissioner Jeff Bergosh\, Escambia County Commissioner District One<br />\nTopic:&nbsp\;Insights on the various improvements and challenges in District One &amp\; collaborations with the PKACC.<br />\n<br />\n&nbsp\;
LOCATION:Hub Stacey's at the Point 5851 Galvez Road Pensacola\, FL 32507
UID:e.2644.35837
SEQUENCE:3
DTSTAMP:20260424T114954Z
URL:https://business.perdidochamber.com/events/details/2024-spill-the-beans-community-conversations-july-35837
END:VEVENT

END:VCALENDAR
