BEGIN:VCALENDAR
VERSION:2.0
PRODID:-//ChamberMaster//Event Calendar 2.0//EN
METHOD:PUBLISH
X-PUBLISHED-TTL:P3D
REFRESH-INTERVAL:P3D
CALSCALE:GREGORIAN
BEGIN:VEVENT
DTSTART:20240510T123000Z
DTEND:20240510T140000Z
X-MICROSOFT-CDO-ALLDAYEVENT:FALSE
SUMMARY:2024 Spill the Beans\, Community Conversations - May
DESCRIPTION:The Perdido Key Area Chamber of Commerce series Spill the Beans\, Community Conversations is held on the second Friday of each month and brings the community together to learn about and discuss important issues and updates that affect local residents and businesses.  \n\n\n\nEach month a community leader will speak on a topic relevant to life in and near Perdido Key.  \n\n\n\nNetworking coffee will start at 7:30 AM and the program will begin at 8:00 AM\, followed by a question and answer session. Coffee\, tea\, and assorted pastries will be provided for attendees while supplies last.\n\n\n\nMay Speaker: Carolyn Fries Director of Workforce Development\, CareerSource Escarosa\n\nMay Topic: How CareerSource Escarosa is committed to supporting the workforce needs of Escambia and Santa Rosa Counties.
X-ALT-DESC;FMTTYPE=text/html:The Perdido Key Area Chamber of Commerce series Spill the Beans\, Community Conversations is held on the second Friday of each month and brings the community together to learn about and discuss important issues and updates that affect local residents and businesses.&nbsp\;&nbsp\;<br />\n<br />\nEach month a community leader will speak on a topic relevant to life in and near Perdido Key.&nbsp\;&nbsp\;<br />\n<br />\nNetworking coffee will start at 7:30 AM and the program will begin at 8:00 AM\, followed by a question and answer session. Coffee\, tea\, and assorted pastries will be provided for attendees while supplies last.<br />\n<br />\nMay Speaker: Carolyn Fries&nbsp\;Director of Workforce Development\,&nbsp\;CareerSource Escarosa<br />\nMay Topic: How&nbsp\;CareerSource Escarosa is committed to supporting the workforce needs of Escambia and Santa Rosa Counties.&nbsp\;<br />\n&nbsp\;
LOCATION:Hub Stacey's at the Point 5851 Galvez Road Pensacola\, FL 32507
UID:e.2644.35710
SEQUENCE:3
DTSTAMP:20260424T134416Z
URL:https://business.perdidochamber.com/events/details/2024-spill-the-beans-community-conversations-may-35710
END:VEVENT

END:VCALENDAR
