BEGIN:VCALENDAR
VERSION:2.0
PRODID:-//ChamberMaster//Event Calendar 2.0//EN
METHOD:PUBLISH
X-PUBLISHED-TTL:P3D
REFRESH-INTERVAL:P3D
CALSCALE:GREGORIAN
BEGIN:VEVENT
DTSTART:20240608T123000Z
DTEND:20240608T190000Z
X-MICROSOFT-CDO-ALLDAYEVENT:FALSE
SUMMARY:2024 World Ocean Day
DESCRIPTION:World Ocean Day is here again! Saturday\, June 8th\, 2024\, will be an unforgettable day of fitness\, family-friendly activities\, beach vendors and fun!\n\n\n\nImagine starting off your morning with a FREE Beach Yoga session courtesy of Bliss Yoga at beautiful Perdido Key Beach Access #4 (next to Crab Trap Restaurant). There will also be story-time for the kids. Then you will be able to either participate in a volunteer beach clean-up activity\, or check out exciting vendors at the beach and participate in activities\, or interact with an animal ambassador and visit with Ocean Experts! The day will conclude with an ocean-themed family movie at the Southwest Library Branch on Gulf Beach Highway!\n\n \n\nThe Chamber along with multiple partner organizations is excited to highlight and recognize World Ocean Day on Saturday\, June 8th\, 2024. All activities will run between 7:30AM to 2:00PM and will be completely FREE to attend. \n\n\n\nSCHEDULE\n\n7:30AM - FREE Beach Yoga with Bliss Yoga (@ Perdido Key Beach Access #4)\n\n              * Please bring your own mat and water bottle*\n\n8:30AM - Beach clean-up activity (@ Perdido Key Beach Access #4)\n\n8:30AM - Visit with Tent Vendors (@ Perdido Key Beach Access #4)\n\n9:30AM - Beach Story-Time (@SW Library Beach Tent)\n\n12:00PM - FREE Finding Nemo Movie @ Southwest Library Branch (Gulf Beach Hwy)\n\n2:00PM - Event concludes\n\n\n\nEvent Photography\;  Please be advised that photos or videos may be taken at this event for use on the Chamber website\, social media\, and/or other promotional materials.  Your attendance at this event gives consent for the Perdido Key Area Chamber of Commerce to use your image and likeness for education\, archival\, and promotional purposes.
X-ALT-DESC;FMTTYPE=text/html:World Ocean Day is here again! Saturday\, June 8th\, 2024\, will be an unforgettable day of fitness\, family-friendly activities\, beach vendors and fun!<br />\n<br />\nImagine starting off your morning with a FREE Beach Yoga session courtesy of Bliss Yoga at beautiful Perdido Key Beach Access #4 (next to Crab Trap Restaurant). There will also be story-time for the kids. Then you will be able to either participate in a volunteer beach clean-up activity\, or check out exciting vendors at the beach and participate in activities\, or interact with an animal ambassador and visit with Ocean Experts! The day will conclude with an ocean-themed family movie at the Southwest Library Branch on Gulf Beach Highway!<br />\n&nbsp\;<br />\nThe Chamber along with multiple partner organizations is excited to highlight and recognize World Ocean Day on Saturday\, June 8th\, 2024. All activities will run between 7:30AM to 2:00PM and will be completely FREE to attend.&nbsp\;<br />\n<br />\n<u>SCHEDULE</u><br />\n7:30AM - FREE Beach Yoga with Bliss Yoga (@ Perdido Key Beach Access #4)<br />\n&nbsp\; &nbsp\; &nbsp\; &nbsp\; &nbsp\; &nbsp\; &nbsp\; <strong><span style="font-size:11px\;">* Please bring your own mat and water bottle*</span></strong><br />\n8:30AM - Beach clean-up activity (@ Perdido Key Beach Access #4)<br />\n8:30AM - Visit with Tent Vendors&nbsp\;(@ Perdido Key Beach Access #4)<br />\n9:30AM - Beach Story-Time (@SW Library Beach Tent)<br />\n12:00PM - FREE Finding Nemo Movie @ Southwest Library Branch (Gulf Beach Hwy)<br />\n2:00PM - Event concludes<br />\n<br />\n<em style="font-weight: 600\;"><span style="color: rgb(255\, 0\, 0)\;">Event Photography\;</span>&nbsp\; Please be advised that photos or videos may be taken at this event for use on the Chamber website\, social media\, and/or other promotional materials.&nbsp\; Your attendance at this event gives consent for the Perdido Key Area Chamber of Commerce to use your image and likeness for education\, archival\, and promotional purposes.</em>
LOCATION:Beach Access #4 / Perdido Key Drive Perdido Key\, FL 32507
UID:e.2644.35701
SEQUENCE:3
DTSTAMP:20260424T115952Z
URL:https://business.perdidochamber.com/events/details/2024-world-ocean-day-35701
END:VEVENT

END:VCALENDAR
