BEGIN:VCALENDAR
VERSION:2.0
PRODID:-//ChamberMaster//Event Calendar 2.0//EN
METHOD:PUBLISH
X-PUBLISHED-TTL:P3D
REFRESH-INTERVAL:P3D
CALSCALE:GREGORIAN
BEGIN:VEVENT
DTSTART:20250301T160000Z
DTEND:20250301T200000Z
X-MICROSOFT-CDO-ALLDAYEVENT:FALSE
SUMMARY:3rd Annual Purse Bingo
DESCRIPTION:Jamie's Mom's House hosts it's 3rd Annual Designer Purse Bingo\, March 1st\, 2025 at a brand new location\, Lillian Community Club. This Brunch & Bingo fundraiser goes to support\, Jamie's Mom's House\, a place of hope and healing for the loved ones of those lost to addiction. As a parent who lost her son to a fentanyl overdose\, Founder Melissa Moyer Pusch\, has made it her mission to be there to provide hope for others going through their darkest hour. Bring your friends\, wear your best hat\, and join us for Brunch and Bingo! WAYS TO PARTICIPATE: Be an Event Sponsor for $250.00 (Showcase Business\, vendor table at event\, Mic recognition\, logo in program) Be a Table Sponsor for $250.00 (6 Brunch Tickets + 6 Bingo Cards) Attend Brunch Tickets $20.00/per person Buy Bingo Cards: $30/per card\, $50/2cards\, $100/4 cards (Unlimited purchases) EVENT PRIZES: Prize for Best Hat at event 50/50 Raffle **Register today to save your spot! Limited seats available.**
X-ALT-DESC;FMTTYPE=text/html:Jamie&#39\;s Mom&#39\;s House hosts it&#39\;s 3rd Annual Designer Purse Bingo\, March 1st\, 2025 at a brand new location\, Lillian Community Club. This Brunch &amp\; Bingo fundraiser goes to support\, Jamie&#39\;s Mom&#39\;s House\, a place of hope and healing for the loved ones of those lost to addiction. As a parent who lost her son to a fentanyl overdose\, Founder Melissa Moyer Pusch\, has made it her mission to be there to provide hope for others going through their darkest hour. Bring your friends\, wear your best hat\, and join us for Brunch and Bingo! WAYS TO PARTICIPATE: Be an Event Sponsor for $250.00 (Showcase Business\, vendor table at event\, Mic recognition\, logo in program) Be a Table Sponsor for $250.00 (6 Brunch Tickets + 6 Bingo Cards) Attend Brunch Tickets $20.00/per person Buy Bingo Cards: $30/per card\, $50/2cards\, $100/4 cards (Unlimited purchases) EVENT PRIZES: Prize for Best Hat at event 50/50 Raffle **Register today to save your spot! Limited seats available.**
LOCATION:Lillian Community Club 34148 Widell Avenue\, Lillian AL\, 36549
UID:e.2644.38780
SEQUENCE:3
DTSTAMP:20260423T034729Z
URL:https://business.perdidochamber.com/events/details/3rd-annual-purse-bingo-38780
END:VEVENT

END:VCALENDAR
