BEGIN:VCALENDAR
VERSION:2.0
PRODID:-//ChamberMaster//Event Calendar 2.0//EN
METHOD:PUBLISH
X-PUBLISHED-TTL:P3D
REFRESH-INTERVAL:P3D
CALSCALE:GREGORIAN
BEGIN:VEVENT
DTSTART:20251026T163000Z
DTEND:20251026T230000Z
X-MICROSOFT-CDO-ALLDAYEVENT:FALSE
SUMMARY:5th Annual Perdido Key Witches & Werewolves Halloween Paddle Ride
DESCRIPTION:Save the Date\, Spooky Paddlers! ?? ???? ??\n\nThe most exciting recreational community fundraising event on the Key is back!\n\nJoin us for the 5th Annual Witches & Werewolves Halloween Paddle Ride & Bar Crawl   a wickedly fun paddle route turned Halloween tradition in Perdido Key!\n\n \n\n\n	When: Sunday\, October 26 @ 12:00 PM\n	Where: Galvez Landing\, Perdido Key\n	Who: 21+\n	Why: Feeding the Gulf Coast Fundraiser\n	How Much: $25\n	Costume Contest: Dress to impress (or distress!)+ badass local Prizes\n	Jam to local live music with us on the exclusive Spell Isle!\n\n\nChills\, thrills & paddling spills! Grab your broomsticks\, capes\, and claws whether you're casting spells or howling at the sun\, or playing in our games\, this eerie adventure on the water is one you won't want to miss!\n\nThe Head Witches are gathering all of the ingredients for a WICKEDLY awesome party!! More details brewing soon  stay tuned & follow us on Facebook for detailed info\, if you dare!
X-ALT-DESC;FMTTYPE=text/html:<p>Save the Date\, Spooky Paddlers! ?? ????&zwj\;??</p>\n\n<p>The most exciting recreational community fundraising event on the Key is back!</p>\n\n<p>Join us for the 5th Annual Witches &amp\; Werewolves Halloween Paddle Ride &amp\; Bar Crawl &mdash\; a wickedly fun paddle route turned Halloween tradition in Perdido Key!</p>\n\n<p>&nbsp\;</p>\n\n<ul>\n	<li>When: Sunday\, October 26 @ 12:00 PM</li>\n	<li>Where: Galvez Landing\, Perdido Key</li>\n	<li>Who: 21+</li>\n	<li>Why: Feeding the Gulf Coast Fundraiser</li>\n	<li>How Much: $25</li>\n	<li>Costume Contest: Dress to impress (or distress!)+ badass local Prizes</li>\n	<li>Jam to local live music with us on the exclusive Spell Isle!</li>\n</ul>\n\n<p>Chills\, thrills &amp\; paddling spills! Grab your broomsticks\, capes\, and claws&mdash\;whether you&#39\;re casting spells or howling at the sun\, or playing in our games\, this eerie adventure on the water is one you won&rsquo\;t want to miss!</p>\n\n<p>The Head Witches are gathering all of the ingredients for a WICKEDLY awesome party!! More details brewing soon&hellip\; stay tuned &amp\; follow us on Facebook for detailed info\, if you dare!</p>\n
LOCATION:Galvez Landing- Innerarity Point\, Perdido Key\, Florida
UID:e.2644.39405
SEQUENCE:3
DTSTAMP:20260423T215959Z
URL:https://business.perdidochamber.com/events/details/5th-annual-perdido-key-witches-werewolves-halloween-paddle-ride-39405
END:VEVENT

END:VCALENDAR
