BEGIN:VCALENDAR
VERSION:2.0
PRODID:-//ChamberMaster//Event Calendar 2.0//EN
METHOD:PUBLISH
X-PUBLISHED-TTL:P3D
REFRESH-INTERVAL:P3D
CALSCALE:GREGORIAN
BEGIN:VEVENT
DTSTART:20251018T140000Z
DTEND:20251018T190000Z
X-MICROSOFT-CDO-ALLDAYEVENT:FALSE
SUMMARY:Arts & Crafts On The Dock
DESCRIPTION:Hello Everyone! Come out to join us for Arts & Crafts On The Dock\, at Bill Dickson Park on October 18th 9a-2p! We met some really great folks during our September event and look forward to meeting more. Visit Whirl Pop on Facebook or interested vendors can call/text us at 850-503-9599. See you on the dock!
X-ALT-DESC;FMTTYPE=text/html:Hello Everyone! Come out to join us for Arts &amp\; Crafts On The Dock\, at Bill Dickson Park on October 18th 9a-2p! We met some really great folks during our September event and look forward to meeting more. Visit Whirl Pop on Facebook or interested vendors can call/text us at 850-503-9599. See you on the dock!
LOCATION:Bill Dickson Park 3151 Fenceline Rd. Pensacola\, FL 32507
UID:e.2644.39459
SEQUENCE:3
DTSTAMP:20260424T102411Z
URL:https://business.perdidochamber.com/events/details/arts-crafts-on-the-dock-10-18-2025-39459
END:VEVENT

END:VCALENDAR
