BEGIN:VCALENDAR
VERSION:2.0
PRODID:-//ChamberMaster//Event Calendar 2.0//EN
METHOD:PUBLISH
X-PUBLISHED-TTL:P3D
REFRESH-INTERVAL:P3D
CALSCALE:GREGORIAN
BEGIN:VEVENT
DTSTART:20250906T140000Z
DTEND:20250906T190000Z
X-MICROSOFT-CDO-ALLDAYEVENT:FALSE
SUMMARY:Arts & Crafts On The Dock
DESCRIPTION:Join Us On The Dock! Stop by Bill Dickson Park on September 6\, 2025\, from 9a-2p\, to support local arts & craft vendors and to enjoy a nice Saturday afternoon on the dock! Admission for patrons is FREE! We hope to see you there!
X-ALT-DESC;FMTTYPE=text/html:Join Us On The Dock! Stop by Bill Dickson Park on September 6\, 2025\, from 9a-2p\, to support local arts &amp\; craft vendors and to enjoy a nice Saturday afternoon on the dock! Admission for patrons is FREE! We hope to see you there!
LOCATION:Pensacola\, FL
UID:e.2644.39400
SEQUENCE:3
DTSTAMP:20260423T190115Z
URL:https://business.perdidochamber.com/events/details/arts-crafts-on-the-dock-39400
END:VEVENT

END:VCALENDAR
