BEGIN:VCALENDAR
VERSION:2.0
PRODID:-//ChamberMaster//Event Calendar 2.0//EN
METHOD:PUBLISH
X-PUBLISHED-TTL:P3D
REFRESH-INTERVAL:P3D
CALSCALE:GREGORIAN
BEGIN:VEVENT
DTSTART:20250815T140000Z
DTEND:20250823T030000Z
X-MICROSOFT-CDO-ALLDAYEVENT:FALSE
SUMMARY:Bid for a Cause – Secret Meals Online Silent Auction
DESCRIPTION:Help us end childhood hunger in South Alabama! The 2025 Secret Meals Online Silent Auction opens Friday\, August 15 at 9 a.m. and runs through Friday\, August 22 at 10 p.m.\n\nEvery bid makes a difference 100% of proceeds go directly toward providing weekend meals to local children in need.\n\nJoin us online here\, find unique items to win\, and make an impact in your community!
X-ALT-DESC;FMTTYPE=text/html:<p>Help us end childhood hunger in South Alabama! The 2025 <strong>Secret Meals Online Silent Auction</strong> opens <strong>Friday\, August 15 at 9 a.m.</strong> and runs through <strong>Friday\, August 22 at 10 p.m.</strong></p>\n\n<p>Every bid makes a difference&mdash\;<strong>100% of proceeds</strong> go directly toward providing weekend meals to local children in need.</p>\n\n<p>Join us online <a href="https://app.charityauctionstoday.com/auctions/2025-secret-meals-online-auction-44216">here</a>\, find unique items to win\, and make an impact in your community!</p>\n
LOCATION:https://app.charityauctionstoday.com/auctions/2025-secret-meals-online-auction-44216
UID:e.2644.39402
SEQUENCE:3
DTSTAMP:20260423T084228Z
URL:https://business.perdidochamber.com/events/details/bid-for-a-cause-secret-meals-online-silent-auction-39402
END:VEVENT

END:VCALENDAR
