BEGIN:VCALENDAR
VERSION:2.0
PRODID:-//ChamberMaster//Event Calendar 2.0//EN
METHOD:PUBLISH
X-PUBLISHED-TTL:P3D
REFRESH-INTERVAL:P3D
CALSCALE:GREGORIAN
BEGIN:VEVENT
DTSTART:20230204T010000Z
DTEND:20230204T030000Z
X-MICROSOFT-CDO-ALLDAYEVENT:FALSE
SUMMARY:Big Bam Boom — A Hall & Oats Tribute
DESCRIPTION:Big Bam Boom and OWA Theater is bringing you the music you know and love - that fusion of true rock and roll with rhythm and blues. Comprised of seasoned musicians from notable and touring professional bands\, Big Bam Boom presents the music of Hall & Oates with precision and smooth harmonies -- resulting in a high-quality\, live show.\n\nBig Bam Boom prides themselves on giving each audience an incredible show from start to finish. With 34 Top-100 songs and 13 gold and platinum albums to choose from\, you are sure to hear your favorite Hall & Oates songs from this high-energy\, live tribute band\, with no pre-recorded tracks.
X-ALT-DESC;FMTTYPE=text/html:<span style="color:#050505">Big Bam Boom and OWA Theater is bringing you the music you know and love - that fusion of true rock and roll with rhythm and blues. Comprised of seasoned musicians from notable and touring professional bands\, Big Bam Boom presents the music of Hall &amp\; Oates with precision and smooth harmonies -- resulting in a high-quality\, live show.</span><br />\n<span style="color:#050505">Big Bam Boom prides themselves on giving each audience an incredible show from start to finish. With 34 Top-100 songs and 13 gold and platinum albums to choose from\, you are sure to hear your favorite Hall &amp\; Oates songs from this high-energy\, live tribute band\, with no pre-recorded tracks.</span>
LOCATION:OWA Theater
UID:e.2644.33599
SEQUENCE:3
DTSTAMP:20260425T154545Z
URL:https://business.perdidochamber.com/events/details/big-bam-boom-a-hall-oats-tribute-33599
END:VEVENT

END:VCALENDAR
