BEGIN:VCALENDAR
VERSION:2.0
PRODID:-//ChamberMaster//Event Calendar 2.0//EN
METHOD:PUBLISH
X-PUBLISHED-TTL:P3D
REFRESH-INTERVAL:P3D
CALSCALE:GREGORIAN
BEGIN:VEVENT
DTSTART:20260302T010000Z
DTEND:20260302T030000Z
X-MICROSOFT-CDO-ALLDAYEVENT:FALSE
SUMMARY:Blue Water Highway
DESCRIPTION:Blue Water Highway brings their signature blend of Americana\, folk rock\, and gritty storytelling to OWA Theater on March 1st! Known for soulful harmonies\, thoughtful songwriting\, and a live show that balances rock energy with heartfelt emotion\, they turn every performance into unforgettable experience.\n\nWith a discography built on modern-meets-classic musical roots\, Blue Water Highway has earned praise as "one of Austin's best Americana acts." Don't miss your chance to see them live at OWA Theater!\n\nPlus\, opening the night is Mobile-based songwriter\, Jenna McClelland! With years of experience touring\, recording\, and captivating Gulf Coast audiences\, Jenna sets the tone with a sound that's heartfelt\, electric\, and unmistakably her own.
X-ALT-DESC;FMTTYPE=text/html:<p>Blue Water Highway brings their signature blend of Americana\, folk rock\, and gritty storytelling to OWA Theater on March 1st! Known for soulful harmonies\, thoughtful songwriting\, and a live show that balances rock energy with heartfelt emotion\, they turn every performance into unforgettable experience.</p>\n\n<p>With a discography built on modern-meets-classic musical roots\, Blue Water Highway has earned praise as &ldquo\;one of Austin&rsquo\;s best Americana acts.&rdquo\; Don&rsquo\;t miss your chance to see them live at OWA Theater!</p>\n\n<p>Plus\, opening the night is Mobile-based songwriter\, Jenna McClelland! With years of experience touring\, recording\, and captivating Gulf Coast audiences\, Jenna sets the tone with a sound that&rsquo\;s heartfelt\, electric\, and unmistakably her own.</p>\n
LOCATION:Location: OWA Theater
UID:e.2644.40178
SEQUENCE:3
DTSTAMP:20260420T083048Z
URL:https://business.perdidochamber.com/events/details/blue-water-highway-40178
END:VEVENT

END:VCALENDAR
