BEGIN:VCALENDAR
VERSION:2.0
PRODID:-//ChamberMaster//Event Calendar 2.0//EN
METHOD:PUBLISH
X-PUBLISHED-TTL:P3D
REFRESH-INTERVAL:P3D
CALSCALE:GREGORIAN
BEGIN:VEVENT
DTSTART:20251018T140000Z
DTEND:20251018T170000Z
X-MICROSOFT-CDO-ALLDAYEVENT:FALSE
SUMMARY:Boo at the Zoo
DESCRIPTION:Celebrate Halloween with the animals at your local non-profit Alabama Gulf Coast Zoo.\n\n\n\nBOO at the ZOO \n\nSaturday\, October 18\, 2025\n\n9:00 am - 12:00 pm \n\n\n\nA day full of scare-free fun\, trick or treating\, activities\, and meet and greets with your favorite animal ambassadors.\n\nPresented by Crye Leike Gulf Coast Real Estate\n\nPRICING/TICKETS:\n\nBoo at the Zoo is INCLUDED with regular Zoo admission! Purchase tickets here or at the door on the day of the event. \n\nZoo Admission: Adults (age 13-61) $23.95\, Senior (62+)/Military $20.95\, Child (age 3-12) $15.95.\n\nZoo Members and children 2 years and younger are FREE! Membership cards must be shown at the entrance.\n\nNot a Zoo Member? Don't miss out on special discounts. Join Today and Save!\n\nAll proceeds benefit the animals and programs of the Alabama Gulf Coast Zoo. \n\n\n\nNeed to Know Information:\n\n	Animal Encounters will be closed during the event.\n	Bring your own treat bags.\n	Dress in your best costumes for a chance to win a Golden Ticket to redeem for a prize in the gift shop.
X-ALT-DESC;FMTTYPE=text/html:<span style="font-family:arial\,sans-serif"><span style="font-size:10.5pt">Celebrate Halloween with the&nbsp\;animals at your local non-profit Alabama Gulf Coast Zoo.</span></span><br />\n<br />\n<strong><span style="color:#FF6600"><span style="font-family:arial\,sans-serif"><span style="font-size:10.5pt">BOO at the ZOO&nbsp\;</span></span></span></strong><br />\n<strong><span style="color:#FF6600"><span style="font-family:arial\,sans-serif"><span style="font-size:10.5pt">Saturday\, October 18\, 2025</span></span></span></strong><br />\n<strong><span style="color:#FF6600"><span style="font-family:arial\,sans-serif"><span style="font-size:10.5pt">9:00 am - 12:00 pm&nbsp\;</span></span></span></strong><br />\n<br />\n<span style="font-family:arial\,sans-serif"><span style="font-size:10.5pt">A day full of scare-free fun\, trick or treating\, activities\, and meet and greets with your favorite animal ambassadors.</span></span><br />\n<strong><span style="font-family:arial\,sans-serif"><span style="font-size:10.5pt">Presented by Crye Leike Gulf Coast Real Estate</span></span></strong><br />\n<strong><span style="color:#FF6600"><span style="font-family:arial\,sans-serif"><span style="font-size:10.5pt">PRICING/TICKETS:</span></span></span></strong><br />\n<strong><span style="font-family:arial\,sans-serif"><span style="font-size:10.5pt">Boo at the Zoo is INCLUDED with regular Zoo admission!&nbsp\;</span></span></strong><span style="font-family:arial\,sans-serif"><span style="font-size:10.5pt"><a href="https://www.alabamagulfcoastzoo.com/tickets/#ticket_container" style="text-decoration-line:none\;touch-action:manipulation\;box-sizing:border-box\;"><span style="color:#0066B9">Purchase tickets here</span></a>&nbsp\;or at the door on the day of the event.&nbsp\;</span></span><br />\n<span style="font-family:arial\,sans-serif"><span style="font-size:10.5pt">Zoo Admission: Adults (age 13-61) $23.95\, Senior (62+)/Military $20.95\, Child (age 3-12) $15.95.</span></span><br />\n<em><strong><span style="font-family:arial\,sans-serif"><span style="font-size:10.5pt">Zoo Members and children 2 years and younger are FREE!&nbsp\;</span></span></strong></em><span style="font-family:arial\,sans-serif"><span style="font-size:10.5pt">Membership cards must be shown at the entrance.</span></span><br />\n<span style="font-family:arial\,sans-serif"><span style="font-size:10.5pt">Not a Zoo Member? Don&#39\;t miss out on special discounts.&nbsp\;<a href="https://www.alabamagulfcoastzoo.com/become-a-member/" style="text-decoration-line:none\;touch-action:manipulation\;box-sizing:border-box\;"><span style="color:#0066B9">Join&nbsp\;Today and Save!</span></a></span></span><br />\n<span style="font-family:arial\,sans-serif"><span style="font-size:10.5pt">All proceeds benefit the animals and programs of the Alabama Gulf Coast Zoo.&nbsp\;</span></span><br />\n<br />\n<strong><span style="color:#FF6600"><span style="font-family:arial\,sans-serif"><span style="font-size:10.5pt">Need to Know Information:</span></span></span></strong>\n<ul>\n	<li><span style="font-family:arial\,sans-serif"><span style="font-size:10.5pt">Animal Encounters will be closed during the event.</span></span></li>\n	<li><span style="font-family:arial\,sans-serif"><span style="font-size:10.5pt">Bring your own treat bags.</span></span></li>\n	<li><span style="font-family:arial\,sans-serif"><span style="font-size:10.5pt">Dress in your best costumes for a chance to win a Golden Ticket to redeem for a prize in the gift shop.</span></span></li>\n</ul>\n
LOCATION:Alabama Gulf Coast Zoo 20499 Oak Road East Gulf Shores\, AL 36542
UID:e.2644.39482
SEQUENCE:3
DTSTAMP:20260424T102240Z
URL:https://business.perdidochamber.com/events/details/boo-at-the-zoo-39482
END:VEVENT

END:VCALENDAR
