BEGIN:VCALENDAR
VERSION:2.0
PRODID:-//ChamberMaster//Event Calendar 2.0//EN
METHOD:PUBLISH
X-PUBLISHED-TTL:P3D
REFRESH-INTERVAL:P3D
CALSCALE:GREGORIAN
BEGIN:VEVENT
DTSTART:20231006T123000Z
DTEND:20231006T140000Z
X-MICROSOFT-CDO-ALLDAYEVENT:FALSE
SUMMARY:Breakfast Brief - October 2023
DESCRIPTION:The Perdido Key Area Chamber of Commerce Breakfast Brief is held on the first Friday of each month and brings the community together to learn about and discuss important issues and updates that affect local residents and businesses.  \n\n\n\nEach month a community leader will speak on a topic relevant to life in and near Perdido Key.  \n\n\n\nThis month's speaker - Escambia County District 2 County Commissioner\, Mike Kohler.\n\n  \n\nCommissioner Mike Kohler was elected by the citizens of District 2 in 2022. He ran for office for the first time in 2020 after serving in the Navy for 33 years. His career started in Pensacola in 1988 as a Hospital Corpsman working at Naval Hospital Pensacola and it concluded as the Executive Officer of Navy Medicine Operational Training Command a tenet command onboard NAS Pensacola. His career spanned 13 paygrades for E-1 to O-6. He is proud to be called a mustang for his enlisted time. \n\n\n\nNetworking coffee will start at 7:30 AM and the program will begin at 8:00 AM\, followed by a question and answer session. Coffee\, tea\, and assorted pastries will be provided for attendees while supplies last.
X-ALT-DESC;FMTTYPE=text/html:<span style="font-size:16px\;"><span style="font-family:arial\;">The Perdido Key Area Chamber of Commerce Breakfast Brief is held on the first Friday of each month and brings the community together to learn about and discuss important issues and updates that affect local residents and businesses.&nbsp\;&nbsp\;<br />\n<br />\nEach month a community leader will speak on a topic relevant to life in and near Perdido Key.&nbsp\;&nbsp\;<br />\n<br />\n<strong>This month&#39\;s speaker - Escambia County District 2 County Commissioner\, Mike Kohler.</strong><br />\n&nbsp\;&nbsp\;<br />\n<span style="box-sizing: border-box\; background-color: rgb(255\, 255\, 255)\;">Commissioner Mike Kohler was elected by the citizens of District 2 in 2022. He&nbsp\;</span><span style="background-color: rgb(255\, 255\, 255)\;">ran for office for the first time in 2020 after serving in the Navy for 33 years. His career started in Pensacola in 1988 as a Hospital Corpsman working at Naval Hospital Pensacola and it concluded as the Executive Officer of Navy Medicine Operational Training Command a tenet command onboard NAS Pensacola. His career spanned 13 paygrades for E-1 to O-6. He is proud to be called a mustang for his enlisted time.&nbsp\;</span><br />\n<br />\nNetworking coffee will start at 7:30 AM and the program will begin at 8:00 AM\, followed by a question and answer session. Coffee\, tea\, and assorted pastries will be provided for attendees while supplies last.</span></span>
LOCATION:Hub Stacey's at the Point 5851 Galvez Road Pensacola\, FL 32507
UID:e.2644.25769
SEQUENCE:3
DTSTAMP:20260425T015933Z
URL:https://business.perdidochamber.com/events/details/breakfast-brief-october-2023-25769
END:VEVENT

END:VCALENDAR
