BEGIN:VCALENDAR
VERSION:2.0
PRODID:-//ChamberMaster//Event Calendar 2.0//EN
METHOD:PUBLISH
X-PUBLISHED-TTL:P3D
REFRESH-INTERVAL:P3D
CALSCALE:GREGORIAN
BEGIN:VEVENT
DTSTART:20200415T220000Z
DTEND:20200416T000000Z
X-MICROSOFT-CDO-ALLDAYEVENT:FALSE
SUMMARY:Business After Hours April 2020 (Virtual)
DESCRIPTION:The Perdido Key Area Chamber of Commerce would like to invite all Chamber members and future members to our monthly Business After Hours networking social.\n\n\n\nThis high-energy\, after hours networking event is held on the third Wednesday of each month from 5:00 p.m. - 7:00 p.m.  This event allows Chamber members to network with each other in a relaxed\, informal setting at the host's location.\n\n\n\nApril Business After Hours will be held online virtually on Zoom!\n\n\n\nFees/Admission:\n\nFree for all members and non-members
X-ALT-DESC;FMTTYPE=text/html:<span style="color: rgb(29\, 33\, 41)\; font-family: Helvetica\, Arial\, sans-serif\; font-size: 14px\;"><span style="font-family:arial\;">The</span> Perdido Key Area Chamber of Commerce would like to invite all Chamber members and future members to our monthly Business After Hours networking social.</span><br />\n<br />\n<span style="font-family:tahoma\;"><span style="font-size:14px\;">This high-energy\, after hours networking event is held on the third Wednesday of each month from 5:00 p.m. - 7:00 p.m.&nbsp\; This event allows Chamber members to network with each other in a relaxed\, informal setting at the host&#39\;s location.</span></span><br />\n<br />\n<span style="color: rgb(29\, 33\, 41)\; font-family: Helvetica\, Arial\, sans-serif\; font-size: 14px\;">April Business After Hours will be held online virtually on Zoom!</span><br style="color: rgb(29\, 33\, 41)\; font-family: Helvetica\, Arial\, sans-serif\; font-size: 14px\;" />\n<br style="color: rgb(29\, 33\, 41)\; font-family: Helvetica\, Arial\, sans-serif\; font-size: 14px\;" />\n<span style="color: rgb(29\, 33\, 41)\; font-family: Helvetica\, Arial\, sans-serif\; font-size: 14px\;">Fees/Admission:</span><br style="color: rgb(29\, 33\, 41)\; font-family: Helvetica\, Arial\, sans-serif\; font-size: 14px\;" />\n<span style="color: rgb(29\, 33\, 41)\; font-family: Helvetica\, Arial\, sans-serif\; font-size: 14px\;">Free for all members and non-members</span><br style="color: rgb(29\, 33\, 41)\; font-family: Helvetica\, Arial\, sans-serif\; font-size: 14px\;" />\n&nbsp\;
LOCATION:Virtually on Zoom
UID:e.2644.19405
SEQUENCE:3
DTSTAMP:20260422T000812Z
URL:https://business.perdidochamber.com/events/details/business-after-hours-april-2020-virtual-19405
END:VEVENT

END:VCALENDAR
