BEGIN:VCALENDAR
VERSION:2.0
PRODID:-//ChamberMaster//Event Calendar 2.0//EN
METHOD:PUBLISH
X-PUBLISHED-TTL:P3D
REFRESH-INTERVAL:P3D
CALSCALE:GREGORIAN
BEGIN:VEVENT
DTSTART:20260325T133000Z
DTEND:20260325T143000Z
X-MICROSOFT-CDO-ALLDAYEVENT:FALSE
SUMMARY:Business Development Committee
DESCRIPTION:The Business Development Committee works in partnership with our local leadership\, public entities\, and nonprofits to support the community as a whole. This group advocates for the vitality of the local business\, focuses on preserving the quality of life\, and campaigns for safety on the Key in order to promote community development and provide an environment where business can thrive.\n\n\n\nChair - Allen Bizzell - Holiday Harbor Marina & Sunset Grille\n\nStaff contact:  Tammy Thurow
X-ALT-DESC;FMTTYPE=text/html:<span style="color: rgb(51\, 51\, 51)\; font-family: sans-serif\, Arial\, Verdana\, &quot\;Trebuchet MS&quot\;\; font-size: 13px\; background-color: rgb(255\, 255\, 255)\;">The Business Development Committee works in partnership with our local leadership\, public entities\, and nonprofits to support the community as a whole. This group advocates for the vitality of the local business\, focuses on preserving the quality of life\, and campaigns for safety on the Key in order to promote community development and provide an environment where business can thrive.</span><br style="color: rgb(51\, 51\, 51)\; font-family: sans-serif\, Arial\, Verdana\, &quot\;Trebuchet MS&quot\;\; font-size: 13px\;" />\n<br style="color: rgb(51\, 51\, 51)\; font-family: sans-serif\, Arial\, Verdana\, &quot\;Trebuchet MS&quot\;\; font-size: 13px\;" />\n<span style="color: rgb(51\, 51\, 51)\; font-family: sans-serif\, Arial\, Verdana\, &quot\;Trebuchet MS&quot\;\; font-size: 13px\; background-color: rgb(255\, 255\, 255)\;">Chair -&nbsp\;Allen Bizzell - Holiday Harbor Marina &amp\; Sunset Grille</span><br style="color: rgb(51\, 51\, 51)\; font-family: sans-serif\, Arial\, Verdana\, &quot\;Trebuchet MS&quot\;\; font-size: 13px\;" />\n<span style="color: rgb(51\, 51\, 51)\; font-family: sans-serif\, Arial\, Verdana\, &quot\;Trebuchet MS&quot\;\; font-size: 13px\; background-color: rgb(255\, 255\, 255)\;">Staff contact:&nbsp\;&nbsp\;</span><a href="mailto:tammy@perdidochamber.com" style="color: rgb(7\, 130\, 193)\; font-family: sans-serif\, Arial\, Verdana\, &quot\;Trebuchet MS&quot\;\; font-size: 13px\;">Tammy Thurow</a>
LOCATION:Perdido Key Area Chamber of Commerce 15500 Perdido Key Dr. 32507
UID:e.2644.40352
SEQUENCE:3
DTSTAMP:20260422T154204Z
URL:https://business.perdidochamber.com/events/details/business-development-committee-03-25-2026-40352
END:VEVENT

END:VCALENDAR
