BEGIN:VCALENDAR
VERSION:2.0
PRODID:-//ChamberMaster//Event Calendar 2.0//EN
METHOD:PUBLISH
X-PUBLISHED-TTL:P3D
REFRESH-INTERVAL:P3D
CALSCALE:GREGORIAN
BEGIN:VEVENT
DTSTART:20220720T220000Z
DTEND:20220721T000000Z
X-MICROSOFT-CDO-ALLDAYEVENT:FALSE
SUMMARY:CANCELED Business After Hours July 2022
DESCRIPTION:We are sorry to announce that due to the recent uptick in Covid cases\, and out of an abundance of caution\, this week's Business After Hours at Seagrass Village Gulf Shores has been canceled.\n\n \n\nWe hope to reschedule sometime in the future when it is safer for all concerned.\n\n \n\nWe apologize for any inconvenience.
X-ALT-DESC;FMTTYPE=text/html:<div style="color: rgb(41\, 75\, 147)\; font-family: Arial\, Verdana\, Helvetica\, sans-serif\; font-size: 16px\; white-space: pre-wrap\; background-color: rgb(208\, 236\, 242)\;">We are sorry to announce that due to the recent uptick in Covid cases\, and out of an abundance of caution\, this week&#39\;s Business After Hours at Seagrass Village Gulf Shores has been canceled.</div>\n\n<div style="color: rgb(41\, 75\, 147)\; font-family: Arial\, Verdana\, Helvetica\, sans-serif\; font-size: 16px\; white-space: pre-wrap\; background-color: rgb(208\, 236\, 242)\;">&nbsp\;</div>\n\n<div style="color: rgb(41\, 75\, 147)\; font-family: Arial\, Verdana\, Helvetica\, sans-serif\; font-size: 16px\; white-space: pre-wrap\; background-color: rgb(208\, 236\, 242)\;">We hope to reschedule sometime in the future when it is safer for all concerned.</div>\n\n<div style="color: rgb(41\, 75\, 147)\; font-family: Arial\, Verdana\, Helvetica\, sans-serif\; font-size: 16px\; white-space: pre-wrap\; background-color: rgb(208\, 236\, 242)\;">&nbsp\;</div>\n\n<div style="color: rgb(41\, 75\, 147)\; font-family: Arial\, Verdana\, Helvetica\, sans-serif\; font-size: 16px\; white-space: pre-wrap\; background-color: rgb(208\, 236\, 242)\;">We apologize for any inconvenience.</div>\n
LOCATION:Seagrass Village 21298 Cotton Creek Dr. Gulf Shores\, Alabama
UID:e.2644.33379
SEQUENCE:3
DTSTAMP:20260426T031004Z
URL:https://business.perdidochamber.com/events/details/canceled-business-after-hours-july-2022-33379
END:VEVENT

END:VCALENDAR
