BEGIN:VCALENDAR
VERSION:2.0
PRODID:-//ChamberMaster//Event Calendar 2.0//EN
METHOD:PUBLISH
X-PUBLISHED-TTL:P3D
REFRESH-INTERVAL:P3D
CALSCALE:GREGORIAN
BEGIN:VEVENT
DTSTART:20250225T233000Z
DTEND:20250226T003000Z
X-MICROSOFT-CDO-ALLDAYEVENT:FALSE
SUMMARY:Escambia County Dune Matrix Enhancement Project Public Meeting
DESCRIPTION:Escambia County and Baskerville-Donovan will host a public meeting for the Escambia County Dune Matrix Enhancement project. The goal of this project is to enhance critical dune habitats on Pensacola Beach and Perdido Key\, which will strengthen resilience to coastal storms and enhance habitat for protected coastal wildlife\, including the Perdido Key Beach Mouse and nesting sea turtles. The project area includes private gulf-front lands on Perdido Key\, which will require landowner permission to conduct restoration activities. Perdido Key landowners are encouraged to attend the public meeting to learn about the project design and right of entry agreement needed for restoration activities to occur. Any person requiring special accommodations at the meeting should contact the project team at dunes@baskervilledonovan.com. For more information about the project visit
X-ALT-DESC;FMTTYPE=text/html:Escambia County and Baskerville-Donovan will host a public meeting for the Escambia County Dune Matrix Enhancement project. The goal of this project is to enhance critical dune habitats on Pensacola Beach and Perdido Key\, which will strengthen resilience to coastal storms and enhance habitat for protected coastal wildlife\, including the Perdido Key Beach Mouse and nesting sea turtles. The project area includes private gulf-front lands on Perdido Key\, which will require landowner permission to conduct restoration activities. Perdido Key landowners are encouraged to attend the public meeting to learn about the project design and right of entry agreement needed for restoration activities to occur. Any person requiring special accommodations at the meeting should contact the project team at dunes@baskervilledonovan.com. For more information about the project visit
LOCATION:Perdido Bay United Methodist Church 13660 Innerarity Point Road
UID:e.2644.38823
SEQUENCE:3
DTSTAMP:20260423T045156Z
URL:https://business.perdidochamber.com/events/details/escambia-county-dune-matrix-enhancement-project-public-meeting-38823
END:VEVENT

END:VCALENDAR
