BEGIN:VCALENDAR
VERSION:2.0
PRODID:-//ChamberMaster//Event Calendar 2.0//EN
METHOD:PUBLISH
X-PUBLISHED-TTL:P3D
REFRESH-INTERVAL:P3D
CALSCALE:GREGORIAN
BEGIN:VEVENT
DTSTART:20241017T230000Z
DTEND:20241018T020000Z
X-MICROSOFT-CDO-ALLDAYEVENT:FALSE
SUMMARY:Evening for the Estuaries Gala
DESCRIPTION:Mark your calendars for an evening of live music\, awards\, drinks\, hors d'oeuvres (including oysters!)\, a silent auction\, awards\, and giving back to the waters we call home. Located on scenic Wolf Bay (a part of the Perdido Bay System)\, the Coastal Arts Center is a stunning fine art gallery displaying works by Gulf Coast artists. The Pensacola and Perdido Bays Estuary Program is making great strides in our community to raise awareness\, improve water quality\, restore important habitats\, and build a network of committed partners to protect\, improve\, and preserve our waterways for generations to come. The Evening for the Estuaries Gala is an annual fundraiser that supports programs\, such as:   Manatee outreach to protect local manatees   Workshops for local teachers and student field trips   Oyster and habitat restoration   Water quality monitoring   Educational kayak tours   And much more! Attire: Cocktail
X-ALT-DESC;FMTTYPE=text/html:Mark your calendars for an evening of live music\, awards\, drinks\, hors d&#39\;oeuvres (including oysters!)\, a silent auction\, awards\, and giving back to the waters we call home. Located on scenic Wolf Bay (a part of the Perdido Bay System)\, the Coastal Arts Center is a stunning fine art gallery displaying works by Gulf Coast artists. The Pensacola and Perdido Bays Estuary Program is making great strides in our community to raise awareness\, improve water quality\, restore important habitats\, and build a network of committed partners to protect\, improve\, and preserve our waterways for generations to come. The Evening for the Estuaries Gala is an annual fundraiser that supports programs\, such as: &bull\; Manatee outreach to protect local manatees &bull\; Workshops for local teachers and student field trips &bull\; Oyster and habitat restoration &bull\; Water quality monitoring &bull\; Educational kayak tours &bull\; And much more! Attire: Cocktail
LOCATION:Coastal Arts Center of Orange Beach 26389 Canal Road Orange Beach\, Alabama 36561
UID:e.2644.36379
SEQUENCE:3
DTSTAMP:20260424T083705Z
URL:https://business.perdidochamber.com/events/details/evening-for-the-estuaries-gala-10-17-2024-36379
END:VEVENT

END:VCALENDAR
