BEGIN:VCALENDAR
VERSION:2.0
PRODID:-//ChamberMaster//Event Calendar 2.0//EN
METHOD:PUBLISH
X-PUBLISHED-TTL:P3D
REFRESH-INTERVAL:P3D
CALSCALE:GREGORIAN
BEGIN:VEVENT
DTSTART:20241012T150000Z
DTEND:20241013T000000Z
X-MICROSOFT-CDO-ALLDAYEVENT:FALSE
SUMMARY:Fall Fest
DESCRIPTION:Saturday's Fall Fest is going to be awesome! Pumpkin smashing\, a pumpkin patch\, GREAT music and BBQ\, antique tractors\, a beer tent\, vendors and lots of games and activities to boot. It's going to be so much fun! And then there will be FIREWORKS at 7! Can it get much better than that??? We doubt it!
X-ALT-DESC;FMTTYPE=text/html:Saturday&#39\;s Fall Fest is going to be awesome! Pumpkin smashing\, a pumpkin patch\, GREAT music and BBQ\, antique tractors\, a beer tent\, vendors and lots of games and activities to boot. It&#39\;s going to be so much fun! And then there will be FIREWORKS at 7! Can it get much better than that??? We doubt it!
LOCATION:Lillian Recreational Park 33914 Widell\, Lillian
UID:e.2644.37509
SEQUENCE:3
DTSTAMP:20260424T083457Z
URL:https://business.perdidochamber.com/events/details/fall-fest-37509
END:VEVENT

END:VCALENDAR
