BEGIN:VCALENDAR
VERSION:2.0
PRODID:-//ChamberMaster//Event Calendar 2.0//EN
METHOD:PUBLISH
X-PUBLISHED-TTL:P3D
REFRESH-INTERVAL:P3D
CALSCALE:GREGORIAN
BEGIN:VEVENT
DTSTART:20260404T130000Z
DTEND:20260404T170000Z
X-MICROSOFT-CDO-ALLDAYEVENT:FALSE
SUMMARY:First Impresson Vendor Market
DESCRIPTION:Local vendor market\, nursery\, and gift shop. Interested vendors contact Lonnie or Austin at the shop.
X-ALT-DESC;FMTTYPE=text/html:Local vendor market\, nursery\, and gift shop. Interested vendors contact Lonnie or Austin at the shop.
LOCATION:11545 Sorrento Rd.\, Pensacola\, FL
UID:e.2644.42201
SEQUENCE:3
DTSTAMP:20260421T155831Z
URL:https://business.perdidochamber.com/events/details/first-impresson-vendor-market-42201
END:VEVENT

END:VCALENDAR
