BEGIN:VCALENDAR
VERSION:2.0
PRODID:-//ChamberMaster//Event Calendar 2.0//EN
METHOD:PUBLISH
X-PUBLISHED-TTL:P3D
REFRESH-INTERVAL:P3D
CALSCALE:GREGORIAN
BEGIN:VEVENT
DTSTART:20230430T000000Z
DTEND:20230430T020000Z
X-MICROSOFT-CDO-ALLDAYEVENT:FALSE
SUMMARY:Florida Bee Gees — A Tribute Band
DESCRIPTION:Put on your dancing shoes and head to OWA Theater April 28 & 29 to catch the spectacular Florida Bee Gees! The Florida Bee Gees presents dynamic\, interactive and entertaining live tribute to the multi-platinum kings of disco.  This tribute band takes the audience on a masterful musical journey that mixes in the Bee Gees songbook of beautiful love ballads and dance fever including the hits that made the Bee Gees a musical sensation.
X-ALT-DESC;FMTTYPE=text/html:<span style="font-family:calibri\,sans-serif\; font-size:14.6667px">Put on your dancing shoes and head to OWA Theater April 28 &amp\; 29 to catch the spectacular Florida Bee Gees! The Florida Bee Gees presents dynamic\, interactive and entertaining live tribute to the multi-platinum kings of disco.&nbsp\; This tribute band takes the audience on a masterful musical journey that mixes in the Bee Gees songbook of beautiful love ballads and dance fever including the hits that made the Bee Gees a musical sensation.&nbsp\;</span>
LOCATION:OWA Theater
UID:e.2644.33791
SEQUENCE:3
DTSTAMP:20260425T122334Z
URL:https://business.perdidochamber.com/events/details/florida-bee-gees-a-tribute-band-04-29-2023-33791
END:VEVENT

END:VCALENDAR
