BEGIN:VCALENDAR
VERSION:2.0
PRODID:-//ChamberMaster//Event Calendar 2.0//EN
METHOD:PUBLISH
X-PUBLISHED-TTL:P3D
REFRESH-INTERVAL:P3D
CALSCALE:GREGORIAN
BEGIN:VEVENT
DTSTART:20251024T163000Z
DTEND:20251024T180000Z
X-MICROSOFT-CDO-ALLDAYEVENT:FALSE
SUMMARY:Florida SBDC at UWF Presents "Google AI University"
DESCRIPTION:Are you a small business owner looking to get ahead in the digital age? Artificial Intelligence (AI) is no longer just a futuristic concept it's a powerful tool that can streamline your operations\, enhance customer engagement\, and drive growth right now.\n\nJoin us for Google AI University\, a special workshop designed specifically for small business owners\, funded in part by Google\, and delivered by an ASBDC AI certified trainer. This is your opportunity to understand the foundational concepts of AI and learn practical\, actionable ways to implement it into your business today.\n\n \n\nWhat You'll Learn:\n\n\n	AI Explained: Get a clear\, jargon-free overview of what AI is and how it's currently being used by businesses of all sizes.\n	Practical Business Applications: Discover specific\, accessible ways AI can immediately impact your daily operations\, including:\n	\n		Saving Time on administrative tasks with AI-powered tools.\n		Creating High-Quality Content (emails\, social media posts\, blog drafts) faster than ever before.\n		Improving Customer Service and personalizing interactions.\n		Analyzing Data to make smarter business decisions.\n	\n	\n	Actionable Next Steps: Walk away with a clear roadmap for adopting AI responsibly and making your first smart AI investments.
X-ALT-DESC;FMTTYPE=text/html:<p><span style="font-size:16px">Are you a small business owner looking to get ahead in the digital age?</span><span style="font-size:16px">&nbsp\;</span><span style="font-size:16px">Artificial Intelligence (AI)</span><span style="font-size:16px">&nbsp\;is no longer just a futuristic concept&mdash\;it&#39\;s a powerful tool that can&nbsp\;</span><span style="font-size:16px">streamline your operations\, enhance customer engagement\, and drive growth</span><span style="font-size:16px">&nbsp\;right now.</span></p>\n\n<p><span style="font-size:16px">Join us for&nbsp\;Google AI University</span><span style="font-size:16px">\, a special workshop designed specifically for small business owners\, funded in part by Google\, and delivered by an ASBDC AI certified trainer. This is your opportunity to understand the foundational concepts of AI and learn practical\, actionable ways to implement it into your business today.</span></p>\n\n<p>&nbsp\;</p>\n\n<h2><span style="font-size:20px">What You&#39\;ll Learn:</span></h2>\n\n<ul>\n	<li><span style="font-size:16px">AI Explained:</span><span style="font-size:16px">&nbsp\;Get a clear\, jargon-free&nbsp\;</span><span style="font-size:16px">overview of what AI is</span><span style="font-size:16px">&nbsp\;and how it&#39\;s currently being used by businesses of all sizes.</span></li>\n	<li><span style="font-size:16px">Practical Business Applications:</span><span style="font-size:16px">&nbsp\;Discover specific\, accessible ways AI can immediately impact your daily operations\, including:</span>\n	<ul>\n		<li><span style="font-size:16px">Saving Time</span><span style="font-size:16px">&nbsp\;on administrative tasks with AI-powered tools.</span></li>\n		<li><span style="font-size:16px">Creating High-Quality Content</span><span style="font-size:16px">&nbsp\;(emails\, social media posts\, blog drafts) faster than ever before.</span></li>\n		<li><span style="font-size:16px">Improving Customer Service</span><span style="font-size:16px">&nbsp\;and personalizing interactions.</span></li>\n		<li><span style="font-size:16px">Analyzing Data</span><span style="font-size:16px">&nbsp\;to make smarter business decisions.</span></li>\n	</ul>\n	</li>\n	<li><span style="font-size:16px">Actionable Next Steps:</span><span style="font-size:16px">&nbsp\;Walk away with a clear roadmap for&nbsp\;</span><span style="font-size:16px">adopting AI responsibly</span><span style="font-size:16px">&nbsp\;and making your first smart AI investments.</span></li>\n</ul>\n
LOCATION:Greater Pensacola Chamber of Commerce 418 W Garden St\, CO:LAB Bldg\, 4th flr Pensacola\, FL 32501
UID:e.2644.39462
SEQUENCE:3
DTSTAMP:20260424T102330Z
URL:https://business.perdidochamber.com/events/details/florida-sbdc-at-uwf-presents-google-ai-university-39462
END:VEVENT

END:VCALENDAR
