BEGIN:VCALENDAR
VERSION:2.0
PRODID:-//ChamberMaster//Event Calendar 2.0//EN
METHOD:PUBLISH
X-PUBLISHED-TTL:P3D
REFRESH-INTERVAL:P3D
CALSCALE:GREGORIAN
BEGIN:VEVENT
DTSTART:20250613T210000Z
DTEND:20250613T230000Z
X-MICROSOFT-CDO-ALLDAYEVENT:FALSE
SUMMARY:High Heel Classic Pairings Party
DESCRIPTION:Who's Invited?\n\nAll registered guests of the 3rd Annual High Heel Golf Classic\, proudly presented by the Perdido Key Area Chamber of Commerce! The event tees off at Perdido Bay Golf Club on Monday\, June 16\, 2025.\n\n\nWhat Can You Expect?\n\nGet ready for an afternoon of fun\, flavor\, and friendly competition!\n\n   Enjoy lite bites curated by the talented Chef Paulette Martin of Nouveau Catering\, paired with complimentary beverages provided by First Tee Gulf Coast and Buffalo Rock.\n\n      Take a swing at indoor golf contests featuring exciting gifts and prizes\, presented by Jo Rich of Jo Rich Beauty.\n\n  Explore the First Tee Gulf Coast Practice Area and Driving Range   including one complimentary small bucket of balls per registered tournament guest\, available between 2 PM and 7 PM while open to the public.\n\n  Let loose with a round of Goofy Golf\, on the house for our registered guests.\n\n  Craving something more? From 3 7 PM\, the Naughty & Nice Food Trailer   co-owned by Chef Paulette and her husband Adam Ard   will be serving up delicious eats\, open to the public. Bonus: Any purchase from N&N includes a BOGO Goofy Golf card\, good that evening or for a future visit!
X-ALT-DESC;FMTTYPE=text/html:<h3 data-end="92" data-start="68"><span style="font-family:verdana\;"><span style="font-size:16px\;"><strong data-end="90" data-start="72">Who&rsquo\;s Invited?</strong></span></span></h3>\n\n<p data-end="303" data-start="93"><span style="font-family:verdana\;"><span style="font-size:16px\;">All <em data-end="116" data-start="97">registered guests</em> of the <strong data-end="161" data-start="124">3rd Annual High Heel Golf Classic</strong>\, proudly presented by the <strong data-end="228" data-start="188">Perdido Key Area Chamber of Commerce</strong>! The event tees off at <strong data-end="302" data-start="252">Perdido Bay Golf Club on Monday\, June 16\, 2025</strong>.</span></span></p>\n\n<hr data-end="308" data-start="305" />\n<h3 data-end="340" data-start="310"><span style="font-family:verdana\;"><span style="font-size:16px\;"><strong data-end="338" data-start="314">What Can You Expect?</strong></span></span></h3>\n\n<p data-end="409" data-start="341"><span style="font-family:verdana\;"><span style="font-size:16px\;">Get ready for an afternoon of fun\, flavor\, and friendly competition!</span></span></p>\n\n<p data-end="602" data-start="411"><span style="font-family:verdana\;"><span style="font-size:16px\;">&#127869\;&#65039\; Enjoy <strong data-end="435" data-start="421">lite bites</strong> curated by the talented <strong data-end="484" data-start="460">Chef Paulette Martin</strong> of <em data-end="506" data-start="488">Nouveau Catering</em>\, paired with <strong data-end="547" data-start="520">complimentary beverages</strong> provided by <em data-end="582" data-start="560">First Tee Gulf Coast</em> and <em data-end="601" data-start="587">Buffalo Rock</em>.</span></span></p>\n\n<p data-end="736" data-start="604"><span style="font-family:verdana\;"><span style="font-size:16px\;">&#127948\;&#65039\;&zwj\;&#9792\;&#65039\; Take a swing at <strong data-end="651" data-start="627">indoor golf contests</strong> featuring exciting <strong data-end="691" data-start="671">gifts and prizes</strong>\, presented by <strong data-end="735" data-start="706">Jo Rich of Jo Rich Beauty</strong>.</span></span></p>\n\n<p data-end="963" data-start="738"><span style="font-family:verdana\;"><span style="font-size:16px\;">&#9971\; Explore the <strong data-end="790" data-start="752">First Tee Gulf Coast Practice Area</strong> and <strong data-end="812" data-start="795">Driving Range</strong> &mdash\; including <strong data-end="900" data-start="825">one complimentary small bucket of balls per registered tournament guest</strong>\, available between <strong data-end="937" data-start="920">2 PM and 7 PM</strong> while open to the public.</span></span></p>\n\n<p data-end="1049" data-start="965"><span style="font-family:verdana\;"><span style="font-size:16px\;">&#127919\; Let loose with a round of <strong data-end="1008" data-start="994">Goofy Golf</strong>\, on the house for our registered guests.</span></span></p>\n\n<p data-end="1351" data-start="1051"><span style="font-family:verdana\;"><span style="font-size:16px\;">&#128666\; Craving something more? From <strong data-end="1093" data-start="1083">3&ndash\;7 PM</strong>\, the <strong data-end="1130" data-start="1099">Naughty &amp\; Nice Food Trailer</strong> &mdash\; co-owned by Chef Paulette and her husband <strong data-end="1187" data-start="1175">Adam Ard</strong> &mdash\; will be serving up delicious eats\, open to the public. Bonus: Any purchase from N&amp\;N includes a <strong data-end="1309" data-start="1285">BOGO Goofy Golf card</strong>\, good that evening or for a future visit!</span></span></p>\n\n<p style="color: rgb(36\, 36\, 36)\; background-color: rgb(255\, 255\, 255)\; font-size: 12pt\; font-family: Calibri\, sans-serif\; margin: 0px\;"><br />\n&nbsp\;</p>\n
LOCATION:First Tee Gulf Coast 3924 Navy Blvd. Warrington\, 32507
UID:e.2644.39046
SEQUENCE:3
DTSTAMP:20260423T215546Z
URL:https://business.perdidochamber.com/events/details/high-heel-classic-pairings-party-39046
END:VEVENT

END:VCALENDAR
