BEGIN:VCALENDAR
VERSION:2.0
PRODID:-//ChamberMaster//Event Calendar 2.0//EN
METHOD:PUBLISH
X-PUBLISHED-TTL:P3D
REFRESH-INTERVAL:P3D
CALSCALE:GREGORIAN
BEGIN:VEVENT
DTSTART:20250122T230000Z
DTEND:20250123T010000Z
X-MICROSOFT-CDO-ALLDAYEVENT:FALSE
SUMMARY:History at the Campfire
DESCRIPTION:Enjoy a weekly interactive history program by a campfire. A volunteer will meet participants to start the campfire beginning at 5 PM in January Youth Camp fire circle in the back of the campground. The history topic will vary depending on visitors interest but all topics will relate to the Pensacola area at various time periods. Specifically this year the program will delve into Pensacola as the capital of British West Florida and St Augustine as the capital of British East Florida.
X-ALT-DESC;FMTTYPE=text/html:Enjoy a weekly interactive history program by a campfire. A volunteer will meet participants to start the campfire beginning at 5 PM in January Youth Camp fire circle in the back of the campground. The history topic will vary depending on visitors interest but all topics will relate to the Pensacola area at various time periods. Specifically this year the program will delve into Pensacola as the capital of British West Florida and St Augustine as the capital of British East Florida.
LOCATION:Fire circle in the center of the youth camp in the back of the campground at Big Lagoon State Park 12301 Gulf Beach Highway
UID:e.2644.38696
SEQUENCE:3
DTSTAMP:20260423T031357Z
URL:https://business.perdidochamber.com/events/details/history-at-the-campfire-01-22-2025-38696
END:VEVENT

END:VCALENDAR
