BEGIN:VCALENDAR
VERSION:2.0
PRODID:-//ChamberMaster//Event Calendar 2.0//EN
METHOD:PUBLISH
X-PUBLISHED-TTL:P3D
REFRESH-INTERVAL:P3D
CALSCALE:GREGORIAN
BEGIN:VEVENT
DTSTART:20241010T130000Z
DTEND:20241010T180000Z
X-MICROSOFT-CDO-ALLDAYEVENT:FALSE
SUMMARY:Holes Fore Hope
DESCRIPTION:Holes Fore Hope is a four person scramble where each player has a chance to advance their team to the winners' circle. Mulligans are available for purchase at the beginning of the tournament\, and contests for other prizes are set throughout the course. Competitions include longest drive\, the closest putt\, and don't forget our famous ball drop!\n\nThe tournament also includes a 50/50 raffle\, a silent auction\, along with a basket raffle in which all participants and guests are welcome to participate. All proceeds from this charity event go to helping support the programs and services of The Centre For Excellence of Pensacola.
X-ALT-DESC;FMTTYPE=text/html:<p>Holes Fore Hope is a four person scramble where each player has a chance to advance their team to the winners&rsquo\; circle. Mulligans are available for purchase at the beginning of the tournament\, and contests for other prizes are set throughout the course. Competitions include longest drive\, the closest putt\, and don&rsquo\;t forget our famous ball drop!</p>\n\n<p>The tournament also includes a 50/50 raffle\, a silent auction\, along with a basket raffle in which all participants and guests are welcome to participate. All proceeds from this charity event go to helping support the programs and services of The Centre For Excellence of Pensacola.&nbsp\;</p>\n
LOCATION:Lost Key Golf Club 625 Lost Key Drive\, Pensacola FL\, 32507
UID:e.2644.35883
SEQUENCE:3
DTSTAMP:20260424T083450Z
URL:https://business.perdidochamber.com/events/details/holes-fore-hope-35883
END:VEVENT

END:VCALENDAR
