BEGIN:VCALENDAR
VERSION:2.0
PRODID:-//ChamberMaster//Event Calendar 2.0//EN
METHOD:PUBLISH
X-PUBLISHED-TTL:P3D
REFRESH-INTERVAL:P3D
CALSCALE:GREGORIAN
BEGIN:VEVENT
DTSTART:20260424T130000Z
DTEND:20260424T190000Z
X-MICROSOFT-CDO-ALLDAYEVENT:FALSE
SUMMARY:Holes Fore Hope Charity Golf Tournament
DESCRIPTION:Holes Fore Hope is the Centre's Annual Charity Golf Tournament\; a four person scramble where each player has a chance to advance their team to the winners' circle. Mulligans are available for purchase at the beginning of the tournament\, and contests for other prizes are set throughout the course. Competitions include longest drive\, the closest putt\,  50/50 raffle\, basket raffles and more\, in which all participants and guests are welcome to participate.
X-ALT-DESC;FMTTYPE=text/html:<span style="color:rgb(15\, 46\, 79)\; font-family:-apple-system\,system-ui\,segoe ui\,roboto\,oxygen-sans\,ubuntu\,cantarell\,helvetica neue\,sans-serif\; font-size:15px">Holes Fore Hope is the Centre&rsquo\;s Annual Charity Golf Tournament\;</span><span style="color:rgb(15\, 46\, 79)\; font-family:-apple-system\,blinkmacsystemfont\,segoe ui\,roboto\,oxygen-sans\,ubuntu\,cantarell\,helvetica neue\,sans-serif\; font-size:15px">&nbsp\;a four person scramble where each player has a chance to advance their team to the winners&rsquo\; circle. Mulligans are available for purchase at the beginning of the tournament\, and contests for other prizes are set throughout the course. Competitions include longest drive\, the closest putt\,&nbsp\;</span><span style="color:rgb(15\, 46\, 79)\; font-family:-apple-system\,blinkmacsystemfont\,segoe ui\,roboto\,oxygen-sans\,ubuntu\,cantarell\,helvetica neue\,sans-serif\; font-size:15px">&nbsp\;50/50 raffle\, basket raffles and more\, in which all participants and guests are welcome to participate.&nbsp\;</span>
LOCATION:Osceola Municipal Golf Course 300 Tonawanda Dr.\, Pensacola\, FL 32506
UID:e.2644.42193
SEQUENCE:3
DTSTAMP:20260420T025100Z
URL:https://business.perdidochamber.com/events/details/holes-fore-hope-charity-golf-tournament-42193
END:VEVENT

END:VCALENDAR
