BEGIN:VCALENDAR
VERSION:2.0
PRODID:-//ChamberMaster//Event Calendar 2.0//EN
METHOD:PUBLISH
X-PUBLISHED-TTL:P3D
REFRESH-INTERVAL:P3D
CALSCALE:GREGORIAN
BEGIN:VEVENT
DTSTART:20241012T200000Z
DTEND:20241012T230000Z
X-MICROSOFT-CDO-ALLDAYEVENT:FALSE
SUMMARY:Howl-o-ween Dog Costume Contest
DESCRIPTION:Bring your furry fam and dress in your Howl-o-ween best for a free dog costume contest on OWA Island\, on Saturday\, October 12th! Prizes will be distributed among a variety of categories\, including: Most Creative\, Best Team Costume\, Spookiest\, and Funniest costumes.\n\n\n\nIn-person registration for the costume contest will begin at 4 pm\, although we encourage you to register online. Online registration will end on Thursday\, October 10th at 8 am.\n\n\n\nCheck out all Halloween activities here: https://visitowa.com/fun-filled-fall/
X-ALT-DESC;FMTTYPE=text/html:Bring your furry fam and dress in your Howl-o-ween best for a free dog costume contest on OWA Island\, on Saturday\, October 12<sup>th</sup>! Prizes will be distributed among a variety of categories\, including: Most Creative\, Best Team Costume\, Spookiest\, and Funniest costumes.<br />\n<br />\nIn-person registration for the costume contest will begin at 4 pm\, although we encourage you to register online. Online registration will end on Thursday\, October 10<sup>th</sup> at 8 am.<br />\n<br />\n<span style="font-family:calibri\,sans-serif"><span style="font-size:11.0pt">Check out all Halloween activities here:&nbsp\;</span></span>https://visitowa.com/fun-filled-fall/
LOCATION:Downtown OWA
UID:e.2644.37499
SEQUENCE:3
DTSTAMP:20260424T084028Z
URL:https://business.perdidochamber.com/events/details/howl-o-ween-dog-costume-contest-10-12-2024-37499
END:VEVENT

END:VCALENDAR
