BEGIN:VCALENDAR
VERSION:2.0
PRODID:-//ChamberMaster//Event Calendar 2.0//EN
METHOD:PUBLISH
X-PUBLISHED-TTL:P3D
REFRESH-INTERVAL:P3D
CALSCALE:GREGORIAN
BEGIN:VEVENT
DTSTART;VALUE=DATE:20240920
DTEND;VALUE=DATE:20240922
TRANSP:TRANSPARENT
X-MICROSOFT-CDO-ALLDAYEVENT:TRUE
SUMMARY:Jim's Firearms 10th Anniversary Celebration
DESCRIPTION:Join Jim's Firearms for a 10th-anniversary celebration on September 20th and 21st. They're partnering with local favorites like Bad Ass Coffee\, Key Nutrition\, Warrior Beer\, and more for an unforgettable event. Indulge in delicious food from La Casita Food Truck and 850 Barbeque. But that's not all! They'll be having numerous firearm raffles with all proceeds benefiting Save Underdogs Rescue.  Join the fun and make a difference...Come out to Jim's Firearms\, at the corner of Sorrento Rd and Blue Angel Pkwy September 20th and 21st to celebrate a decade of community support! \n\n\n\nhttps://www.canva.com/design/DAGN19Yg8Kc/godBh9eCVIVarpqktSe7mg/watch
X-ALT-DESC;FMTTYPE=text/html:<span style="color:rgb(36\, 36\, 36)\; font-family:segoe ui\,segoe ui web (west european)\,segoe ui\,-apple-system\,blinkmacsystemfont\,roboto\,helvetica neue\,sans-serif\; font-size:15px"><span style="color:inherit\; font-family:calibri\,sans-serif\,serif\,emojifont\; font-size:11pt">Join Jim&#39\;s Firearms for a 10th-anniversary celebration on September 20th and 21st. They&#39\;re partnering with local favorites like&nbsp\;<strong>Bad Ass Coffee\,<span style="color:inherit">&nbsp\;</span>Key Nutrition\, Warrior&nbsp\;Beer\,</strong>&nbsp\;and more for an unforgettable event. Indulge in delicious food from&nbsp\;<strong>La Casita Food Truck</strong>&nbsp\;and&nbsp\;<strong>850 Barbeque</strong>. But that&#39\;s not all! They&#39\;ll be having numerous&nbsp\;<strong>firearm&nbsp\;raffles<span style="color:inherit">&nbsp\;</span></strong>with all proceeds benefiting&nbsp\;<strong>Save Underdogs Rescue</strong>.&nbsp\;&nbsp\;</span></span><span style="color:rgb(61\, 133\, 198)\; font-family:segoe ui\,segoe ui web (west european)\,segoe ui\,-apple-system\,blinkmacsystemfont\,roboto\,helvetica neue\,sans-serif\; font-size:15px">Join the fun and make a difference...</span><span style="color:rgb(36\, 36\, 36)\; font-family:segoe ui\,segoe ui web (west european)\,segoe ui\,-apple-system\,blinkmacsystemfont\,roboto\,helvetica neue\,sans-serif\; font-size:15px"><span style="color:inherit\; font-family:calibri\,sans-serif\,serif\,emojifont\; font-size:11pt">Come out to Jim&#39\;s Firearms\, at the corner of Sorrento Rd and Blue Angel Pkwy September 20th and 21st to celebrate a decade of community support!&nbsp\;</span></span><br />\n<br />\n<a href="https://www.canva.com/design/DAGN19Yg8Kc/godBh9eCVIVarpqktSe7mg/watch">https://www.canva.com/design/DAGN19Yg8Kc/godBh9eCVIVarpqktSe7mg/watch</a>
LOCATION:Jim's Firearms 10437 Sorrento Road
UID:e.2644.36603
SEQUENCE:3
DTSTAMP:20260422T194332Z
URL:https://business.perdidochamber.com/events/details/jim-s-firearms-10th-anniversary-celebration-36603
END:VEVENT

END:VCALENDAR
