BEGIN:VCALENDAR
VERSION:2.0
PRODID:-//ChamberMaster//Event Calendar 2.0//EN
METHOD:PUBLISH
X-PUBLISHED-TTL:P3D
REFRESH-INTERVAL:P3D
CALSCALE:GREGORIAN
BEGIN:VEVENT
DTSTART:20220728T163000Z
DTEND:20220728T180000Z
X-MICROSOFT-CDO-ALLDAYEVENT:FALSE
SUMMARY:July 2022 Networking Luncheon with the Perdido Area Chamber
DESCRIPTION:Join the Perdido Key Area Chamber of Commerce for a Networking Lunch.\n\n\n\nJoin us as a Chamber member or a prospective member to network with business professionals in the Perdido Key Area.  Make sure to bring plenty of business cards.\n\n\n\nThis month's luncheon will be held at: \n\n\n\nGT's on the Bay\n\n26189 Canal Rd\n\nOrange Beach\, Alabama\n\n\n\nThe lunch is free to attend however each person will be responsible for the payment of their own meal. \n\n\n\nPlease RSVP using the "Register " button so that our host venue can prepare accordingly
X-ALT-DESC;FMTTYPE=text/html:<br />\n<br />\nJoin the Perdido Key Area Chamber of Commerce for a Networking Lunch.<br />\n<br />\nJoin us as a Chamber member or a prospective member to network with business professionals in the Perdido Key Area.&nbsp\; Make sure to bring plenty of business cards.<br />\n<br />\nThis month&#39\;s luncheon will be held at:&nbsp\;<br />\n<br />\nGT&#39\;s on the Bay<br />\n26189 Canal Rd<br />\nOrange Beach\, Alabama<br />\n<br />\nThe lunch is free to attend however each person will be responsible for the payment of their own meal.&nbsp\;<br />\n<br />\nPlease RSVP using the &quot\;Register &quot\; button so that our host venue can prepare accordingly
LOCATION:GT's on the Bay 26189 Canal Rd. Orange Beach\, AL 36561
UID:e.2644.33439
SEQUENCE:3
DTSTAMP:20260426T031149Z
URL:https://business.perdidochamber.com/events/details/july-2022-networking-luncheon-with-the-perdido-area-chamber-07-28-2022-33439
END:VEVENT

END:VCALENDAR
