BEGIN:VCALENDAR
VERSION:2.0
PRODID:-//ChamberMaster//Event Calendar 2.0//EN
METHOD:PUBLISH
X-PUBLISHED-TTL:P3D
REFRESH-INTERVAL:P3D
CALSCALE:GREGORIAN
BEGIN:VEVENT
DTSTART:20250201T140000Z
DTEND:20250201T170000Z
X-MICROSOFT-CDO-ALLDAYEVENT:FALSE
SUMMARY:Kiwanis "Friend Raiser" Pancake Breakfast
DESCRIPTION:Our annual free Pancake Breakfast at the Holy Spirit Catholic Church is an opportunity to bring our community together. Panacakes\, Sausage\, Fruit Cups\, Coffee\, OJ\, and Milk. Games for the kids. Perdido area neighbors\, including "Snow Birds" are welcome. Kiwanis Club of Big Lagoon's mission is to "To improve the world and our community\, one child at a time ".
X-ALT-DESC;FMTTYPE=text/html:Our annual free Pancake Breakfast at the Holy Spirit Catholic Church is an opportunity to bring our community together. Panacakes\, Sausage\, Fruit Cups\, Coffee\, OJ\, and Milk. Games for the kids. Perdido area neighbors\, including &quot\;Snow Birds&quot\; are welcome. Kiwanis Club of Big Lagoon&#39\;s mission is to &quot\;To improve the world and our community\, one child at a time &quot\;.
LOCATION:Holy Spirit Catholic Church 10650 Gulf Beach Hwy Pensacola\, FL 32507
UID:e.2644.38354
SEQUENCE:3
DTSTAMP:20260423T044931Z
URL:https://business.perdidochamber.com/events/details/kiwanis-friend-raiser-pancake-breakfast-38354
END:VEVENT

END:VCALENDAR
