BEGIN:VCALENDAR
VERSION:2.0
PRODID:-//ChamberMaster//Event Calendar 2.0//EN
METHOD:PUBLISH
X-PUBLISHED-TTL:P3D
REFRESH-INTERVAL:P3D
CALSCALE:GREGORIAN
BEGIN:VEVENT
DTSTART;VALUE=DATE:20260207
DTEND;VALUE=DATE:20260208
TRANSP:TRANSPARENT
X-MICROSOFT-CDO-ALLDAYEVENT:TRUE
SUMMARY:Kiwanis "Friend-Raising" Pancake Breakfast
DESCRIPTION:Kiwanis Club of Big Lagoon Annual Panacake "Friend-Raiser" Breakfast. Everyone one living in or visiting our community is welcome\, especially children and "Snow Birds". Breakfast will include: world renowned\, fluffy Kiwanis plain and blueberry pancakes\; sausage patties\; fruit cups\; coffee\, milk\,  and orange juice.
X-ALT-DESC;FMTTYPE=text/html:Kiwanis Club of Big Lagoon Annual Panacake &quot\;Friend-Raiser&quot\; Breakfast. Everyone one living in or visiting our community is welcome\, especially children and &quot\;Snow Birds&quot\;. Breakfast will include: world renowned\, fluffy Kiwanis plain and blueberry pancakes\; sausage patties\; fruit cups\; coffee\, milk\, &nbsp\;and orange juice.
LOCATION:Holy Spirit Catholic Church 10650 Gulf Beach Highway Pensacola\, FL
UID:e.2644.40349
SEQUENCE:3
DTSTAMP:20260420T101724Z
URL:https://business.perdidochamber.com/events/details/kiwanis-friend-raising-pancake-breakfast-40349
END:VEVENT

END:VCALENDAR
