BEGIN:VCALENDAR
VERSION:2.0
PRODID:-//ChamberMaster//Event Calendar 2.0//EN
METHOD:PUBLISH
X-PUBLISHED-TTL:P3D
REFRESH-INTERVAL:P3D
CALSCALE:GREGORIAN
BEGIN:VEVENT
DTSTART:20260131T170000Z
DTEND:20260201T000000Z
X-MICROSOFT-CDO-ALLDAYEVENT:FALSE
SUMMARY:Mardi Gras Flotilla sponsored by The Pirates of Lost Treasure
DESCRIPTION:The Pirates of Lost Treasure (PLT) proudly invite you to join us for our 2026 Annual Mardi Gras Flotilla Parade\, taking place on Saturday\, January 31\, 2026. This treasured community event brings together locals and visitors alike for a day of fun\, celebration\, and goodwill   all while supporting a worthy cause.\n\n\n\nA portion of the proceeds from this year's event will be donated to Secret Santa of Pensacola\, helping local families in need during the holiday season. Both PLT and Secret Santa of Pensacola are recognized 501(c)(3) charitable organizations.\n\n\n\nA major part of our flotilla is that our participants not only get to dress up\, but they get to dress their boats up. Boats are judged on the most original design\, best decorated\, and most motivated crew. The flotilla starts at Holiday Harbor marina and makes its way along the shore to the Oyster Bar restaurant and then across to Big Lagoon state park and back down the intercoastal by Bushwacker's Landing and Hub Stacey's at the Point\; then on to the Flora Bama where the party continues!
X-ALT-DESC;FMTTYPE=text/html:<span style="font-family:courier new"><span style="font-size:11.0pt"><span style="background-color:#FFFFFF">The Pirates of Lost Treasure (PLT) proudly invite you to join us for our 2026 Annual Mardi Gras Flotilla Parade\, taking place on Saturday\, January 31\, 2026. This treasured community event brings together locals and visitors alike for a day of fun\, celebration\, and goodwill &mdash\; all while supporting a worthy cause.</span><br />\n<br />\n<span style="background-color:#FFFFFF">A portion of the proceeds from this year&rsquo\;s event will be donated to Secret Santa of Pensacola\, helping local families in need during the holiday season. Both PLT and Secret Santa of Pensacola are recognized 501(c)(3) charitable organizations.</span><br />\n<br />\n<span style="background-color:#FFFFFF">A major part of our flotilla is that our participants not only get to dress up\, but they get to dress their boats up. Boats are judged on the most original design\, best decorated\, and most motivated crew.&nbsp\;The flotilla starts at Holiday Harbor marina and makes its way along the shore to the Oyster Bar restaurant and then across to Big Lagoon state park and back down the intercoastal by Bushwacker&#39\;s Landing and Hub Stacey&#39\;s at the Point\; then on to the Flora Bama where the party continues!&nbsp\;&nbsp\;</span></span></span><br />\n&nbsp\;
LOCATION:Starts at Holiday Harbor Marina and ends at Flora Bama
UID:e.2644.40189
SEQUENCE:3
DTSTAMP:20260422T190636Z
URL:https://business.perdidochamber.com/events/details/mardi-gras-flotilla-sponsored-by-the-pirates-of-lost-treasure-01-31-2026-40189
END:VEVENT

END:VCALENDAR
