BEGIN:VCALENDAR
VERSION:2.0
PRODID:-//ChamberMaster//Event Calendar 2.0//EN
METHOD:PUBLISH
X-PUBLISHED-TTL:P3D
REFRESH-INTERVAL:P3D
CALSCALE:GREGORIAN
BEGIN:VEVENT
DTSTART:20251206T013000Z
DTEND:20251206T030000Z
X-MICROSOFT-CDO-ALLDAYEVENT:FALSE
SUMMARY:Messiah Sing! Holiday Concert
DESCRIPTION:THE CHORAL SOCIETY of PENSACOLA: PRESENTS Messiah Sing! Friday\, December 5th 7:30pm and Saturday\, December 6th noon. A signature work returns to our repertoire to spark your celebration of the holidays. When you attend\, bring a score\, because this time\, you'll have the opportunity to join in the singing. Among the sing-along selections will be some of the solos as well as choruses\, including the thrilling "Hallejah." (Of course\, you're welcome to just sit back and listen!) Performances are Friday\, December 5th\, 2025\, at 7:30pm and Saturday\, December 6th\,2025\, at noon\, at the Cathedral of the Sacred Heart. Our artistic director\, Dr. Peter Steenblik will post a preview of the program on the Choral Society's YouTube channel on Monday\, November 24th\, 2025.. Tickets may be purchased at Purplepass.com or through the Pensacola State College Department of Performing Arts ticket office (850-484-1847). For concerns about accessibility or any other questions\, email support@choralsocietyofpensacola.org.
X-ALT-DESC;FMTTYPE=text/html:THE CHORAL SOCIETY of PENSACOLA: PRESENTS Messiah Sing! Friday\, December 5th 7:30pm and Saturday\, December 6th noon. A signature work returns to our repertoire to spark your celebration of the holidays. When you attend\, bring a score\, because this time\, you&rsquo\;ll have the opportunity to join in the singing. Among the sing-along selections will be some of the solos as well as choruses\, including the thrilling &ldquo\;Hallejah.&rdquo\; (Of course\, you&rsquo\;re welcome to just sit back and listen!) Performances are Friday\, December 5th\, 2025\, at 7:30pm and Saturday\, December 6th\,2025\, at noon\, at the Cathedral of the Sacred Heart. Our artistic director\, Dr. Peter Steenblik will post a preview of the program on the Choral Society&rsquo\;s YouTube channel on Monday\, November 24th\, 2025.. Tickets may be purchased at Purplepass.com or through the Pensacola State College Department of Performing Arts ticket office (850-484-1847). For concerns about accessibility or any other questions\, email support@choralsocietyofpensacola.org.
LOCATION:Cathedral of the Sacred Heart
UID:e.2644.40129
SEQUENCE:3
DTSTAMP:20260422T203432Z
URL:https://business.perdidochamber.com/events/details/messiah-sing-holiday-concert-40129
END:VEVENT

END:VCALENDAR
