BEGIN:VCALENDAR
VERSION:2.0
PRODID:-//ChamberMaster//Event Calendar 2.0//EN
METHOD:PUBLISH
X-PUBLISHED-TTL:P3D
REFRESH-INTERVAL:P3D
CALSCALE:GREGORIAN
BEGIN:VEVENT
DTSTART:20250909T000000Z
DTEND:20250909T020000Z
X-MICROSOFT-CDO-ALLDAYEVENT:FALSE
SUMMARY:Music Bingo at Lillian's Pizza
DESCRIPTION:Kick off your weekend early with Music Bingo by Team Trivia every Monday at Lillian's Pizza! We'll be spinning hits from the 60s to the 2000s covering all your favorite genres. It's FREE to play\, and we've got prizes for every winner! Come early\, grab some dinner or drinks\, and enjoy a fun night of music and good vibes. We start at 7 PM see you there!
X-ALT-DESC;FMTTYPE=text/html:Kick off your weekend early with Music Bingo by Team Trivia every Monday at Lillian&#39\;s Pizza! We&rsquo\;ll be spinning hits from the 60s to the 2000s&mdash\;covering all your favorite genres. It&rsquo\;s FREE to play\, and we&rsquo\;ve got prizes for every winner! Come early\, grab some dinner or drinks\, and enjoy a fun night of music and good vibes. We start at 7 PM&mdash\;see you there!
LOCATION:Lillian's Pizza 14514 Perdido Key Drive\, Pensacola 32507 850-492-0131
UID:e.2644.39360
SEQUENCE:3
DTSTAMP:20260423T203122Z
URL:https://business.perdidochamber.com/events/details/music-bingo-at-lillian-s-pizza-09-08-2025-39360
END:VEVENT

END:VCALENDAR
