BEGIN:VCALENDAR
VERSION:2.0
PRODID:-//ChamberMaster//Event Calendar 2.0//EN
METHOD:PUBLISH
X-PUBLISHED-TTL:P3D
REFRESH-INTERVAL:P3D
CALSCALE:GREGORIAN
BEGIN:VEVENT
DTSTART:20241005T140000Z
DTEND:20241006T013000Z
X-MICROSOFT-CDO-ALLDAYEVENT:FALSE
SUMMARY:Oktoberfest
DESCRIPTION:It's time to suit up in your finest dirndl and lederhosen\, Oktoberfest is coming to OWA Parks & Resort! During this day long German inspired event expect the Annual Sister City 5K\, interactive team games\, and live entertainment featured throughout Downtown OWA!\n\nFoley Sister Cities Commission will host its inaugural "Foley Sisters Cities\, 5K Octoberfest Run" on Saturday\, October 5\, 2024\, at OWA Parks & Resort! Starting at 8 AM\, this fundraiser will assist in raising funds for the student trips and other sister cities' initiatives. Sign up today for one of three different runs\, 5K Run\, 5K Race/Walk\, or the 1 Mile Fun Run. Come and support\, run\, or walk for a great cause that benefits the community! Link: https://runsignup.com/Race/AL/Foley/Oktoberfest5KFoley. \n\nIf you are more of a spectator than a game player\, check out some of our live entertainment! The Brats: a high energy polka rock band will be on the Island Stage starting at 5:30pm.
X-ALT-DESC;FMTTYPE=text/html:It&rsquo\;s time to suit up in your finest dirndl and lederhosen\, Oktoberfest is coming to OWA Parks &amp\; Resort! During this day long German inspired event expect the Annual Sister City 5K\, interactive team games\, and live entertainment featured throughout Downtown OWA!<br />\n<span style="color:black">Foley Sister Cities Commission will host its inaugural &ldquo\;Foley Sisters Cities\, 5K Octoberfest Run&rdquo\; on Saturday\, October 5\, 2024\, at OWA Parks &amp\; Resort! Starting at 8 AM\, this fundraiser will assist in raising funds for the student trips and other sister cities&#39\; initiatives. Sign up today for one of three different runs\, 5K Run\, 5K Race/Walk\, or the 1 Mile Fun Run. Come and support\, run\, or walk for a great cause that benefits the community! Link: </span><a href="https://runsignup.com/Race/AL/Foley/Oktoberfest5KFoley" target="_blank">https://runsignup.com/Race/AL/Foley/Oktoberfest5KFoley</a><span style="color:black">. </span><br />\nIf you are more of a spectator than a game player\, check out some of our live entertainment! The Brats: a high energy polka rock band will be on the Island Stage starting at 5:30pm.
LOCATION:Downtown OWA
UID:e.2644.36595
SEQUENCE:3
DTSTAMP:20260424T083644Z
URL:https://business.perdidochamber.com/events/details/oktoberfest-10-05-2024-36595
END:VEVENT

END:VCALENDAR
