BEGIN:VCALENDAR
VERSION:2.0
PRODID:-//ChamberMaster//Event Calendar 2.0//EN
METHOD:PUBLISH
X-PUBLISHED-TTL:P3D
REFRESH-INTERVAL:P3D
CALSCALE:GREGORIAN
BEGIN:VEVENT
DTSTART:20231014T210000Z
DTEND:20231015T000000Z
X-MICROSOFT-CDO-ALLDAYEVENT:FALSE
SUMMARY:Paddle for Prevention
DESCRIPTION:EVENT CANCELLED
X-ALT-DESC;FMTTYPE=text/html:<font face="arial"><span style="font-size: 16px\;">EVENT CANCELLED</span></font>
LOCATION:Littleheads Kayak Launch 14140 River Road Perdido Key\, FL 32507 Sunset Grille 14050 Canal A Way Perdido Key\, FL 32507
UID:e.2644.34506
SEQUENCE:3
DTSTAMP:20260423T133746Z
URL:https://business.perdidochamber.com/events/details/paddle-for-prevention-34506
END:VEVENT

END:VCALENDAR
