BEGIN:VCALENDAR
VERSION:2.0
PRODID:-//ChamberMaster//Event Calendar 2.0//EN
METHOD:PUBLISH
X-PUBLISHED-TTL:P3D
REFRESH-INTERVAL:P3D
CALSCALE:GREGORIAN
BEGIN:VEVENT
DTSTART:20260113T233000Z
DTEND:20260114T020000Z
X-MICROSOFT-CDO-ALLDAYEVENT:FALSE
SUMMARY:Party With The Pirates - Mardi Gras Flotilla Boat Registration
DESCRIPTION:Come party with the Pirates of Lost Treasure and help support Secret Santa.   The annual Mardi Gras Flotilla is January 31st leaving Holiday Harbor Marina at 11:00am and traveling along the intercoastal to the Flora Bama.  Join us at Bushwacker's Landing to register your boat\, get your grog raffle tickets\, and flotilla T shirts.
X-ALT-DESC;FMTTYPE=text/html:Come party with the Pirates of Lost Treasure and help support Secret Santa.&nbsp\; &nbsp\;The annual Mardi Gras Flotilla is January 31st leaving Holiday Harbor Marina at 11:00am and traveling along the intercoastal to the Flora Bama.&nbsp\; Join us at Bushwacker&#39\;s Landing to register your boat\, get your grog raffle tickets\, and flotilla T shirts.&nbsp\;&nbsp\;
LOCATION:Bushwacker's Landing
UID:e.2644.40184
SEQUENCE:3
DTSTAMP:20260422T190659Z
URL:https://business.perdidochamber.com/events/details/party-with-the-pirates-mardi-gras-flotilla-boat-registration-01-13-2026-40184
END:VEVENT

END:VCALENDAR
