BEGIN:VCALENDAR
VERSION:2.0
PRODID:-//ChamberMaster//Event Calendar 2.0//EN
METHOD:PUBLISH
X-PUBLISHED-TTL:P3D
REFRESH-INTERVAL:P3D
CALSCALE:GREGORIAN
BEGIN:VEVENT
DTSTART:20250301T200000Z
DTEND:20250301T230000Z
X-MICROSOFT-CDO-ALLDAYEVENT:FALSE
SUMMARY:Pensacola Grand Mardi Gras Parade
DESCRIPTION:The largest Downtown gathering in Pensacola\, Florida. The Pensacola Grand Mardi Gras Parade will continue its tradition of being held on the Saturday before Fat Tuesday (February 21\, 2023).\n\nThe official parade will begin at 2:00 pm and concludes around 6.00 pm. There will be a children's viewing area\, and no alcohol or tobacco products will be allowed to ensure safety at this high-energy parade. There will also be a VIP viewing area with a seating area.
X-ALT-DESC;FMTTYPE=text/html:<p style="box-sizing: border-box\; margin: 0px\; padding: 0px\; font-size: 18px\; text-rendering: optimizelegibility\; color: rgb(37\, 37\, 37)\; font-family: myriad-pro\, sans-serif\; letter-spacing: 0.36px\;">The largest Downtown gathering in Pensacola\, Florida. The Pensacola Grand Mardi Gras Parade will continue its tradition of being held on the Saturday before Fat Tuesday (February 21\, 2023).</p>\n\n<p style="box-sizing: border-box\; margin: 2rem 0px 0px\; padding: 0px\; font-size: 18px\; text-rendering: optimizelegibility\; color: rgb(37\, 37\, 37)\; font-family: myriad-pro\, sans-serif\; letter-spacing: 0.36px\;">The official parade will begin at 2:00 pm and concludes around 6.00 pm. There will be a children&rsquo\;s viewing area\, and no alcohol or tobacco products will be allowed to ensure safety at this high-energy parade. There will also be a VIP viewing area with a seating area.</p>\n
LOCATION:Palafox StreetPensacola\, Florida 32502
UID:e.2644.38301
SEQUENCE:3
DTSTAMP:20260423T023218Z
URL:https://business.perdidochamber.com/events/details/pensacola-grand-mardi-gras-parade-38301
END:VEVENT

END:VCALENDAR
