BEGIN:VCALENDAR
VERSION:2.0
PRODID:-//ChamberMaster//Event Calendar 2.0//EN
METHOD:PUBLISH
X-PUBLISHED-TTL:P3D
REFRESH-INTERVAL:P3D
CALSCALE:GREGORIAN
BEGIN:VEVENT
DTSTART:20250812T230000Z
DTEND:20250813T000000Z
X-MICROSOFT-CDO-ALLDAYEVENT:FALSE
SUMMARY:Pensacola State College Charter Academy Information Session
DESCRIPTION:Click here to RSVP: https://student.wd501.myworkdaysite.com/.../39d670e122901... Learn more about the Pensacola State College Charter Academy! Join us at one of our information sessions to discover how students in grades 9-12 can earn a high school diploma AND college credits simultaneously for FREE! Through our dual enrollment program\, students pay no cost for tuition\, books\, or technology including a free laptop! Only 75 seats are available per grade level\, so secure your spot before it's too late.
X-ALT-DESC;FMTTYPE=text/html:Click here to RSVP: https://student.wd501.myworkdaysite.com/.../39d670e122901... Learn more about the Pensacola State College Charter Academy! Join us at one of our information sessions to discover how students in grades 9-12 can earn a high school diploma AND college credits simultaneously&mdash\;for FREE! Through our dual enrollment program\, students pay no cost for tuition\, books\, or technology including a free laptop! Only 75 seats are available per grade level\, so secure your spot before it&#39\;s too late.
LOCATION:1000 College Blvd\, Pensacola\, FL 32504 Building 11 Room 1101
UID:e.2644.39087
SEQUENCE:3
DTSTAMP:20260423T084045Z
URL:https://business.perdidochamber.com/events/details/pensacola-state-college-charter-academy-information-session-08-12-2025-39087
END:VEVENT

END:VCALENDAR
