BEGIN:VCALENDAR
VERSION:2.0
PRODID:-//ChamberMaster//Event Calendar 2.0//EN
METHOD:PUBLISH
X-PUBLISHED-TTL:P3D
REFRESH-INTERVAL:P3D
CALSCALE:GREGORIAN
BEGIN:VEVENT
DTSTART:20230523T163000Z
DTEND:20230523T173000Z
X-MICROSOFT-CDO-ALLDAYEVENT:FALSE
SUMMARY:Perdido Key Area Chamber Brown Bag Lunch Series - May
DESCRIPTION:Pack a lunch and join Chamber members and staff for a FREE training for Chamber Members\, $5 for Non-Members. Each month will feature a different seminar designed to help your business be more successful!\n\n\n\nThis Month's Topic - 2022 Top Scams and Business Scams to be Aware Of.  \n\n\n\nPresented by: Tammy Ward\, Better Business Bureau\n\n\n\nThe featured presenter for May 23rd is Tammy Ward with the Better Business Bureau. The topic is 2022 Top Scams and Business Scams to be Aware Of. This educational session aims to inform and empower individuals\, professionals\, and businesses about the latest scams that plagued consumers and industries throughout the previous year. Tammy Ward will shed light on the most prevalent scams that unfolded in 2022\, equipping attendees with the knowledge and tools necessary to protect themselves and their businesses in an ever-evolving landscape of fraudulent activities.
X-ALT-DESC;FMTTYPE=text/html:<span style="font-size:16px\;"><span style="font-family:arial\;">Pack a lunch and join Chamber members and staff for a FREE training for Chamber Members\, $5 for Non-Members. Each month will feature a different seminar designed to help your business be more successful!<br />\n<br />\nThis Month&#39\;s Topic - 2022 Top Scams and Business Scams to be Aware Of.&nbsp\;&nbsp\;</span></span><br />\n<br />\n<span style="font-size:16px\;"><span style="font-family:arial\;">Presented by: <b>Tammy Ward\, Better Business Bureau</b></span></span><br />\n<br />\n<span style="font-size:16px\;"><span style="font-family: Arial\, Verdana\, Helvetica\, sans-serif\; white-space: pre-wrap\;">The featured presenter for May 23rd is Tammy Ward with the Better Business Bureau. The topic is </span><span style="font-family: Arial\, Verdana\, Helvetica\, sans-serif\; white-space: pre-wrap\;">2022 Top Scams and Business Scams to be Aware Of</span><span style="font-family: Arial\, Verdana\, Helvetica\, sans-serif\; white-space: pre-wrap\;">. </span><span style="font-family: Arial\, Verdana\, Helvetica\, sans-serif\; white-space: pre-wrap\;">This educational session aims to inform and empower individuals\, professionals\, and businesses about the latest scams that plagued consumers and industries throughout the previous year.&nbsp\;Tammy Ward will shed light on the most prevalent scams that unfolded in 2022\, equipping attendees with the knowledge and tools necessary to protect themselves and their businesses in an ever-evolving landscape of fraudulent activities.</span></span>
LOCATION:Perdido Key Area Chamber of Commerce Conference Room 15500 Perdido Key Drive Perdido Key\, FL 32507
UID:e.2644.33812
SEQUENCE:3
DTSTAMP:20260425T110414Z
URL:https://business.perdidochamber.com/events/details/perdido-key-area-chamber-brown-bag-lunch-series-may-33812
END:VEVENT

END:VCALENDAR
