BEGIN:VCALENDAR
VERSION:2.0
PRODID:-//ChamberMaster//Event Calendar 2.0//EN
METHOD:PUBLISH
X-PUBLISHED-TTL:P3D
REFRESH-INTERVAL:P3D
CALSCALE:GREGORIAN
BEGIN:VEVENT
DTSTART:20230203T133000Z
DTEND:20230203T150000Z
X-MICROSOFT-CDO-ALLDAYEVENT:FALSE
SUMMARY:Perdido Key Area Chamber of Commerce Breakfast Brief
DESCRIPTION:The Perdido Key Area Chamber of Commerce Breakfast Brief is held on the first Friday of each month and brings the community together to learn about and discuss important issues and updates that affect local residents and businesses.  \n\n\n\nEach month a community leader will speak on a topic relevant to life in and near Perdido Key.  \n\n\n\nThe February 2023 speaker will be Jim Fitzpatrick sharing information about Perdido Key Rotary Club.\n\n\n\nNetworking coffee begins at 7:30 and the presentation begins at 8:00 am\n\n\n\nCoffee and pastries provided for attendees (while they last)
X-ALT-DESC;FMTTYPE=text/html:The Perdido Key Area Chamber of Commerce Breakfast Brief is held on the first Friday of each month and brings the community together to learn about and discuss important issues and updates that affect local residents and businesses.&nbsp\;&nbsp\;<br />\n<br />\nEach month a community leader will speak on a topic relevant to life in and near Perdido Key.&nbsp\;&nbsp\;<br />\n<br />\nThe February 2023 speaker will be Jim Fitzpatrick sharing information about Perdido Key Rotary Club.<br />\n<br />\nNetworking coffee begins at 7:30 and the presentation begins at 8:00 am<br />\n<br />\nCoffee and pastries provided for attendees (while they last)<br />\n&nbsp\;
LOCATION:Hub Stacey's at the Point 5851 Galvez Road Pensacola\, FL 32507
UID:e.2644.25761
SEQUENCE:3
DTSTAMP:20260425T153746Z
URL:https://business.perdidochamber.com/events/details/perdido-key-chamber-breakfast-brief-02-03-2023-25761
END:VEVENT

END:VCALENDAR
