BEGIN:VCALENDAR
VERSION:2.0
PRODID:-//ChamberMaster//Event Calendar 2.0//EN
METHOD:PUBLISH
X-PUBLISHED-TTL:P3D
REFRESH-INTERVAL:P3D
CALSCALE:GREGORIAN
BEGIN:VEVENT
DTSTART:20230407T123000Z
DTEND:20230407T140000Z
X-MICROSOFT-CDO-ALLDAYEVENT:FALSE
SUMMARY:Perdido Key Area Chamber of Commerce Breakfast Brief
DESCRIPTION:The Perdido Key Area Chamber of Commerce Breakfast Brief is held on the first Friday of each month and brings the community together to learn about and discuss important issues and updates that affect local residents and businesses.  \n\n\n\nEach month a community leader will speak on a topic relevant to life in and near Perdido Key.  \n\n\n\nAt our April event\, we are thrilled to welcome Matt Tuchman\, VISIT FLORIDA's newest Regional Partnership Manager servicing Northwest Florida.\n\n \n\nMatt will be sharing with us an update from VISIT FLORIDA\, as well as how businesses big and small can work together and partner with the State of Florida's Official Tourism Marketing Corporation.\n\n\n\nMatt joined VISIT FLORIDA with extensive experience in marketing and partnerships\, having worked in both the tourism industry as a Sales and Marketing Manager at major attractions\, and in the Florida public school system as a County Administrator of Community Involvement and Marketing. Matt moved to Panama City Beach in 2021 and has since immersed himself in the unique communities of Northwest Florida\, supporting tourism industry partners across the Panhandle.\n\n\n\nMatt serves the following Northwest Florida counties: Bay\, Calhoun\, Escambia\, Franklin\, Gadsden\, Gulf\, Holmes\, Jackson\, Liberty\, Okaloosa\, Santa Rosa\, Walton and Washington.
X-ALT-DESC;FMTTYPE=text/html:The Perdido Key Area Chamber of Commerce Breakfast Brief is held on the first Friday of each month and brings the community together to learn about and discuss important issues and updates that affect local residents and businesses.&nbsp\;&nbsp\;<br />\n<br />\nEach month a community leader will speak on a topic relevant to life in and near Perdido Key.&nbsp\;&nbsp\;<br />\n<br />\nAt our April event\, we are thrilled to welcome Matt Tuchman\, VISIT FLORIDA&#39\;s newest Regional Partnership Manager servicing Northwest Florida.<br />\n&nbsp\;<br />\nMatt will be sharing with us an update from VISIT FLORIDA\, as well as how businesses big and small can work together and partner with the State of Florida&#39\;s Official Tourism Marketing Corporation.<br />\n<br />\nMatt joined VISIT FLORIDA with extensive experience in marketing and partnerships\, having worked in both the tourism industry as a Sales and Marketing Manager at major attractions\, and in the Florida public school system as a County Administrator of Community Involvement and Marketing. Matt moved to Panama City Beach in 2021 and has since immersed himself in the unique communities of Northwest Florida\, supporting tourism industry partners across the Panhandle.<br />\n<br />\nMatt serves the following Northwest Florida counties: Bay\, Calhoun\, Escambia\, Franklin\, Gadsden\, Gulf\, Holmes\, Jackson\, Liberty\, Okaloosa\, Santa Rosa\, Walton and Washington.<br />\n&nbsp\;
LOCATION:Hub Stacey's at the Point 5851 Galvez Road Pensacola\, FL 32507
UID:e.2644.25763
SEQUENCE:3
DTSTAMP:20260425T122157Z
URL:https://business.perdidochamber.com/events/details/perdido-key-chamber-breakfast-brief-04-07-2023-25763
END:VEVENT

END:VCALENDAR
