BEGIN:VCALENDAR
VERSION:2.0
PRODID:-//ChamberMaster//Event Calendar 2.0//EN
METHOD:PUBLISH
X-PUBLISHED-TTL:P3D
REFRESH-INTERVAL:P3D
CALSCALE:GREGORIAN
BEGIN:VEVENT
DTSTART:20211001T130000Z
DTEND:20211001T140000Z
X-MICROSOFT-CDO-ALLDAYEVENT:FALSE
SUMMARY:Perdido Key Chamber Breakfast Brief
DESCRIPTION:The Perdido Key Area Chamber of Commerce Breakfast Brief is held on the first Friday of each month and brings the community together to learn about and discuss important issues and updates that affect local residents and businesses.  \n\n\n\nEach month a community leader will speak on a topic relevant to life in and near Perdido Key.  \n\n\n\nOctober's Breakfast will be a special Town Hall Meeting bringing together stakeholders to discuss and explore options for replacing the directional signs that were destroyed by Hurricane Sally.  \n\n\n\nPlease RSVP so we can add your business to the guest list
X-ALT-DESC;FMTTYPE=text/html:The Perdido Key Area Chamber of Commerce Breakfast Brief is held on the first Friday of each month and brings the community together to learn about and discuss important issues and updates that affect local residents and businesses.&nbsp\;&nbsp\;<br />\n<br />\nEach month a community leader will speak on a topic relevant to life in and near Perdido Key.&nbsp\;&nbsp\;<br />\n<br />\nOctober&#39\;s Breakfast will be a special Town Hall Meeting bringing together stakeholders to discuss and explore options for replacing the directional signs that were destroyed by Hurricane Sally.&nbsp\;&nbsp\;<br />\n<br />\nPlease RSVP so we can add your business to the guest list<br />\n&nbsp\;
LOCATION:Hub Stacey's at the Point 5851 Galvez Road Pensacola\, FL 32507
UID:e.2644.25745
SEQUENCE:3
DTSTAMP:20260422T113608Z
URL:https://business.perdidochamber.com/events/details/perdido-key-chamber-breakfast-brief-10-01-2021-25745
END:VEVENT

END:VCALENDAR
