BEGIN:VCALENDAR
VERSION:2.0
PRODID:-//ChamberMaster//Event Calendar 2.0//EN
METHOD:PUBLISH
X-PUBLISHED-TTL:P3D
REFRESH-INTERVAL:P3D
CALSCALE:GREGORIAN
BEGIN:VEVENT
DTSTART:20250328T140000Z
DTEND:20250328T160000Z
X-MICROSOFT-CDO-ALLDAYEVENT:FALSE
SUMMARY:Perdido Key Garden Volunteer Work Day
DESCRIPTION:Early spring is a great time to prepare gardens for the busy growing season. Join us as we prepare the Perdido Key Coastal Demonstration Garden for spring! County staff will be on hand to answer any questions about coastal species and gardening on the barrier islands. Use the link below to sign up on Eventbrite. All ages are welcome\, but volunteers under the age of 18 must have a parent or guardian present on site for the duration of the event. All tools will be provided\, but volunteers are encouraged to bring their own gloves and remember to pack a water bottle and hat.
X-ALT-DESC;FMTTYPE=text/html:Early spring is a great time to prepare gardens for the busy growing season. Join us as we prepare the Perdido Key Coastal Demonstration Garden for spring! County staff will be on hand to answer any questions about coastal species and gardening on the barrier islands. Use the link below to sign up on Eventbrite. All ages are welcome\, but volunteers under the age of 18 must have a parent or guardian present on site for the duration of the event. All tools will be provided\, but volunteers are encouraged to bring their own gloves and remember to pack a water bottle and hat.
LOCATION:Perdido Key Community Center 15500 Perdido Key Drive
UID:e.2644.38862
SEQUENCE:3
DTSTAMP:20260423T052524Z
URL:https://business.perdidochamber.com/events/details/perdido-key-garden-volunteer-work-day-38862
END:VEVENT

END:VCALENDAR
