BEGIN:VCALENDAR
VERSION:2.0
PRODID:-//ChamberMaster//Event Calendar 2.0//EN
METHOD:PUBLISH
X-PUBLISHED-TTL:P3D
REFRESH-INTERVAL:P3D
CALSCALE:GREGORIAN
BEGIN:VEVENT
DTSTART:20251018T160000Z
DTEND:20251018T220000Z
X-MICROSOFT-CDO-ALLDAYEVENT:FALSE
SUMMARY:Perdido Key Witches & Werewolves Halloween Bar Crawl
DESCRIPTION:????? Witches & Werewolves Unite! ?????\n\n\n\nHop on a luxury Party Shuttle and celebrate Halloween in a whole new way! Dress as your favorite witch or werewolf and enjoy a festive ride through Perdido Key's best restaurants   with tasty bites\, sweet treats\, and spooky games along the way.\n\nAll the fun supports a great cause: raising funds for Feeding the Gulf Coast Free Food Distribution in our community!\n\n\n\n? Spots are limited   reserve your seat for a hauntingly good time! ?\n\n\n\n??? TICKETS ARE NOW RELEASED! ???\n\n\n\n?? Saturday\, October 18\n\n?? $30 | 60 People Max\n\n?? Arrive at 11:00 AM\n\n?? Start & Stop Location: Bushwhackers Landing Extra Lot\n\n\n\n???? DRESS CODE:\n\nWitch ?? ?? or Werewolf ??\n\n\n\n?? CASH 4 GAMES:\n\n$1 for Scratch Offs ???\n\n50/50 Raffle - $5 single ticket ??? $20 for 5\n\nSelfie Group Challenge - FREE\n\n\n\n?? SPONSORS:\n\n?? Freeman Roofing\n\n?? Hummer4Hire\n\n?? Team Trivia of Pensacola\n\n?? Beach Buzz Restaurant\n\n?? Cobalt Restaurant\n\n?? Lillian's Pizza\n\n?? Sunset Grille\n\n?? Bushwhacker's Landing\n\n?? AnnaMarie Photography\n\n\n\n???? ???? BAR CRAWL SCHEDULE ???? ????\n\n\n\n??? 11:00 AM - Park at Bushwhacker's Landing Side Lot\n\n1?? 11:00 12:00 PM   Bushwhackers Landing\n\n? Check-In & Welcome\n\n??? Bites & ?? Brews\n\n?? Halloween Music Bingo\n\n\n\n?? 12:00 12:15 PM   Travel to Cobalt\n\n2?? 12:15 1:15 PM   Cobalt Restaurant\n\n?? Costume Contest: ?? ?? Best Witch & ?? Best Werewolf\n\n?? Bites & ?? Drink Specials\n\n\n\n?? 1:15 1:30 PM   Travel to Lillian's Pizza\n\n3?? 1:30 2:30 PM   Lillian's Pizza\n\n?? Halloween Feud\n\n\n\n?? 2:30 2:40 PM   Travel to Sunset Grille\n\n4?? 2:40 3:45 PM   Sunset Grille\n\n??? Scratch Offs\n\n?? Games\n\n\n\n?? 3:45 4:00 PM   Travel to Beach Buzz\n\n5?? 4:00 5:00 PM   Beach Buzz Restaurant\n\n?? Bites & ?? Brews\n\n?? Games\n\n\n\n?? 5:05 5:10 PM   Return to Bushwhackers\n\n6?? 5:10 PM   Bushwhackers Afterparty\n\n?? Live Music\n\n?? Celebrate the Crawl!\n\n??? 50/50 RAFFLE WINNER\n\n?? Half donated to the Musician Medical Fund Fundraiser at The Point Restaurant\n\n??????????????????\n\n\n\n?? ???? JOIN THE MAGIC!\n\nBe part of the PKWWHP (Perdido Key Witches & Werewolves Halloween Paddle) event!\n\n?? Proceeds benefit our very own 10k pound Feeding the Gulf Coast free food distribution drive-thru\n\n?? Food Drive-Thru: Date TBD at Moonshine Saloon\n\n? SIGN UP TODAY!\n\n?? Shuttle seats are first-come\, first-served\n\n?? Everyone must sign a waiver\n\n?? No Drinking & Driving afterwards!\n\n?? Hashtags\n\n#5pkwwhp #halloweenpensacola #witches #barcrawl\n\n#halloweenperdidokeyfl\n\n#kayakflorida #keygulls #lostkeykrewe See less
X-ALT-DESC;FMTTYPE=text/html:<u>?????<strong> Witches &amp\; Werewolves Unite! </strong>?????</u><br />\n<br />\nHop on a luxury Party Shuttle and celebrate Halloween in a whole new way! Dress as your favorite witch or werewolf and enjoy a festive ride through Perdido Key&rsquo\;s best restaurants &mdash\; with tasty bites\, sweet treats\, and spooky games along the way.<br />\nAll the fun supports a great cause: raising funds for Feeding the Gulf Coast Free Food Distribution in our community!<br />\n<br />\n? Spots are limited &mdash\; reserve your seat for a hauntingly good time! ?<br />\n<br />\n??? TICKETS ARE NOW RELEASED! ???<br />\n<br />\n?? Saturday\, October 18<br />\n?? $30 | 60 People Max<br />\n?? Arrive at 11:00 AM<br />\n?? Start &amp\; Stop Location: <strong>Bushwhackers Landing Extra Lot</strong><br />\n<br />\n???? DRESS CODE:<br />\nWitch ??&zwj\;?? or Werewolf ??<br />\n<br />\n?? CASH 4 GAMES:<br />\n$1 for Scratch Offs ???<br />\n50/50 Raffle - $5 single ticket ??? $20 for 5<br />\nSelfie Group Challenge - FREE<br />\n<br />\n?? SPONSORS:<br />\n?? Freeman Roofing<br />\n?? Hummer4Hire<br />\n?? Team Trivia of Pensacola<br />\n?? Beach Buzz Restaurant<br />\n?? Cobalt Restaurant<br />\n?? Lillian&#39\;s Pizza<br />\n?? Sunset Grille<br />\n?? Bushwhacker&#39\;s Landing<br />\n?? AnnaMarie Photography<br />\n<br />\n<strong><u>????&zwj\;???? BAR CRAWL SCHEDULE ????&zwj\;????</u></strong><br />\n<br />\n??? 11:00 AM - Park at Bushwhacker&#39\;s Landing Side Lot<br />\n1?? <strong>11:00&ndash\;12:00 PM &ndash\; Bushwhackers Landing</strong><br />\n? Check-In &amp\; Welcome<br />\n??? Bites &amp\; ?? Brews<br />\n?? Halloween Music Bingo<br />\n<br />\n?? 12:00&ndash\;12:15 PM &ndash\; Travel to Cobalt<br />\n2?? <strong>12:15&ndash\;1:15 PM &ndash\; Cobalt Restaurant</strong><br />\n?? Costume Contest: ??&zwj\;?? Best Witch &amp\; ?? Best Werewolf<br />\n?? Bites &amp\; ?? Drink Specials<br />\n<br />\n?? 1:15&ndash\;1:30 PM &ndash\; Travel to Lillian&rsquo\;s Pizza<br />\n3??<strong> 1:30&ndash\;2:30 PM &ndash\; Lillian&rsquo\;s Pizza</strong><br />\n?? Halloween Feud<br />\n<br />\n?? 2:30&ndash\;2:40 PM &ndash\; Travel to Sunset Grille<br />\n4?? <strong>2:40&ndash\;3:45 PM &ndash\; Sunset Grille</strong><br />\n??? Scratch Offs<br />\n?? Games<br />\n<br />\n?? 3:45&ndash\;4:00 PM &ndash\; Travel to Beach Buzz<br />\n5??<strong> 4:00&ndash\;5:00 PM &ndash\; Beach Buzz Restaurant</strong><br />\n?? Bites &amp\; ?? Brews<br />\n?? Games<br />\n<br />\n?? 5:05&ndash\;5:10 PM &ndash\; Return to Bushwhackers<br />\n6?? <strong>5:10 PM &ndash\; Bushwhackers Afterparty</strong><br />\n?? Live Music<br />\n?? Celebrate the Crawl!<br />\n??? 50/50 RAFFLE WINNER<br />\n?? Half donated to the Musician Medical Fund Fundraiser at The Point Restaurant<br />\n??????????????????<br />\n<br />\n<u><strong>??&zwj\;???? JOIN THE MAGIC!</strong></u><br />\nBe part of the PKWWHP (Perdido Key Witches &amp\; Werewolves Halloween Paddle) event!<br />\n?? Proceeds benefit our very own 10k pound Feeding the Gulf Coast free food distribution drive-thru<br />\n?? Food Drive-Thru: Date TBD at Moonshine Saloon<br />\n? SIGN UP TODAY!<br />\n?? Shuttle seats are first-come\, first-served<br />\n?? Everyone must sign a waiver<br />\n?? No Drinking &amp\; Driving afterwards!<br />\n?? Hashtags<br />\n#5pkwwhp #halloweenpensacola #witches #barcrawl<br />\n#halloweenperdidokeyfl<br />\n#kayakflorida #keygulls #lostkeykrewe See less
LOCATION:Bushwackers Landing Extra LOT 13515 Canal Dr\, Pensacola\, FL 32507
UID:e.2644.39483
SEQUENCE:3
DTSTAMP:20260424T102410Z
URL:https://business.perdidochamber.com/events/details/perdido-key-witches-werewolves-halloween-bar-crawl-39483
END:VEVENT

END:VCALENDAR
