BEGIN:VCALENDAR
VERSION:2.0
PRODID:-//ChamberMaster//Event Calendar 2.0//EN
METHOD:PUBLISH
X-PUBLISHED-TTL:P3D
REFRESH-INTERVAL:P3D
CALSCALE:GREGORIAN
BEGIN:VEVENT
DTSTART:20250301T190000Z
DTEND:20250301T230000Z
X-MICROSOFT-CDO-ALLDAYEVENT:FALSE
SUMMARY:Puppy Gras
DESCRIPTION:Bring your furry friend and join us on March 1st in Downtown OWA for Puppy Gras. From the Puppy Gras Parade and costume contest to various activities throughout Downtown OWA\, there's something for every pup and their human.\n\nBe sure to dress in your Mardi Gras best! Puppy Gras Parade registration guarantees you a spot in our costume contest with cash prizes given for OWA Choice\, Puppy Gras King\, Puppy Gras Queen\, Funniest\, and Most Festive!\n\nDon't miss out on hands-on activities like creating pet toys at The WoofShop or grabbing a sweet treat at the Pup Cup Station.\n\nRegister below for just $10 or sign-up day of for $15 and join us for a day of tail-wagging\, treat-fetching\, and festive fun!\n\nRegister for the Puppy Gras Parade and Costume contest here: https://visitowa.com/puppy-gras/
X-ALT-DESC;FMTTYPE=text/html:Bring your furry friend and join us on March 1<sup>st</sup> in Downtown OWA for Puppy Gras. From the Puppy Gras Parade and costume contest to various activities throughout Downtown OWA\, there&rsquo\;s something for every pup and their human.<br />\nBe sure to dress in your Mardi Gras best! Puppy Gras Parade registration guarantees you a spot in our costume contest with cash prizes given for OWA Choice\, Puppy Gras King\, Puppy Gras Queen\, Funniest\, and Most Festive!<br />\nDon&rsquo\;t miss out on hands-on activities like creating pet toys at The WoofShop or grabbing a sweet treat at the Pup Cup Station.<br />\nRegister below for just $10 or sign-up day of for $15 and join us for a day of tail-wagging\, treat-fetching\, and festive fun!<br />\nRegister for the Puppy Gras Parade and Costume contest here: <a href="https://visitowa.com/puppy-gras/">https://visitowa.com/puppy-gras/</a>
LOCATION:Downtown OWA
UID:e.2644.38614
SEQUENCE:3
DTSTAMP:20260423T023019Z
URL:https://business.perdidochamber.com/events/details/puppy-gras-38614
END:VEVENT

END:VCALENDAR
