BEGIN:VCALENDAR
VERSION:2.0
PRODID:-//ChamberMaster//Event Calendar 2.0//EN
METHOD:PUBLISH
X-PUBLISHED-TTL:P3D
REFRESH-INTERVAL:P3D
CALSCALE:GREGORIAN
BEGIN:VEVENT
DTSTART:20230405T160000Z
DTEND:20230405T163000Z
X-MICROSOFT-CDO-ALLDAYEVENT:FALSE
SUMMARY:Ribbon Cutting - Hightower Industries\, LLC
DESCRIPTION:Join us in welcoming Hightower Industries to the PKACC family with a ribbon-cutting ceremony at their Navy Boulevard Office\, 3960 West Navy Boulevard Pensacola\, FL 32507!\n\n\n\nCatch the action on the Perdido Chamber of Commerce Facebook page @PerdidoChamber.
X-ALT-DESC;FMTTYPE=text/html:Join us in welcoming Hightower Industries to the PKACC family with a ribbon-cutting ceremony at their Navy Boulevard Office\, 3960 West Navy Boulevard Pensacola\, FL 32507!<br />\n<br />\nCatch the action on the Perdido Chamber of Commerce Facebook page @PerdidoChamber.
LOCATION:3960 West Navy Boulevard Pensacola\, FL 32507
UID:e.2644.33774
SEQUENCE:3
DTSTAMP:20260425T122105Z
URL:https://business.perdidochamber.com/events/details/ribbon-cutting-hightower-industries-llc-33774
END:VEVENT

END:VCALENDAR
