BEGIN:VCALENDAR
VERSION:2.0
PRODID:-//ChamberMaster//Event Calendar 2.0//EN
METHOD:PUBLISH
X-PUBLISHED-TTL:P3D
REFRESH-INTERVAL:P3D
CALSCALE:GREGORIAN
BEGIN:VEVENT
DTSTART:20230104T160000Z
DTEND:20230104T163000Z
X-MICROSOFT-CDO-ALLDAYEVENT:FALSE
SUMMARY:Ribbon Cutting - Perdido Bay ER
DESCRIPTION:Join us in a tour and ribbon cutting of the expanded Perdido Bay ER - located at the intersection of Blue Angel Parkway and Hwy 98
X-ALT-DESC;FMTTYPE=text/html:Join us in a tour and ribbon cutting of the expanded Perdido Bay ER - located at the intersection of Blue Angel Parkway and Hwy 98<br />\n&nbsp\;
LOCATION:
UID:e.2644.33595
SEQUENCE:3
DTSTAMP:20260425T172637Z
URL:https://business.perdidochamber.com/events/details/ribbon-cutting-perdido-bay-er-33595
END:VEVENT

END:VCALENDAR
